BEGIN:VCALENDAR
VERSION:2.0
PRODID:-//ChamberMaster//Event Calendar 2.0//EN
METHOD:PUBLISH
X-PUBLISHED-TTL:P3D
REFRESH-INTERVAL:P3D
CALSCALE:GREGORIAN
BEGIN:VEVENT
DTSTART:20221103T180000Z
DTEND:20221103T200000Z
X-MICROSOFT-CDO-ALLDAYEVENT:FALSE
SUMMARY:Women's Luncheon 2022
DESCRIPTION:The Coeur d'Alene Regional Chamber Women's Luncheon is one of our most impactful events of the year. This year\, we are thrilled to feature two phenomenal female leaders who together have inspired millions. You will be deeply moved by their real-life stories of determination\, resilience\, and perseverance.\n\n \n\nWe are excited to announce Amberley Snyder as this year's Keynote Speaker. Amberley's story was adapted into a Netflix original biopic\, in which she shares her story of tragedy to triumph. Featured in the hit series Yellowstone and on The Today Show\, Amberley's story has inspired millions!\n\n \n\nYOU CAN HELP EMPOWER STRONG FEMALE LEADERS IN OUR COMMUNITY:\n\n	Register today! Invite the women in your life to experience Amberley's powerful story. Register your mom\, friends\, coworkers\, and even your daughters\; this event is sure to inspire women of all ages!\n	Donate a gift card/certificate for our GRAND RAFFLE PRIZE\, a designer handbag filled with over $3\,000 in gift cards (think spa services\, local experiences\, outdoor adventures\, restaurants\, wine tastings or women's boutiques!)\n	Sponsor young female leaders from our high schools through our EMPOWER YOUNG FEMALE LEADERS attendance scholarship. Help inspire and empower our future businesswomen!\n\nSponsor this event! Your business can stand with us to show support for strong female leaders in our community. Become a sponsor today! Email connect@cdachamber.com
X-ALT-DESC;FMTTYPE=text/html:<div style="clear:both\;">\n<div style="clear: both\;"><span style="color:black\;"><span style="font-size:11.5pt\;">The Coeur d&#39\;Alene Regional Chamber Women&#39\;s Luncheon is one of our most impactful events of the year. This year\, we are thrilled to feature two phenomenal female leaders who together have inspired millions. You will be deeply moved by their real-life stories of determination\, resilience\, and perseverance.</span></span><br />\n&nbsp\;<br />\n<span style="color:black\;"><span style="font-size:11.5pt\;">We are excited to announce Amberley Snyder as this year&#39\;s Keynote Speaker. Amberley&#39\;s story was adapted into a&nbsp\;</span></span><span style="font-size:18px\;"><span style="color:#0033ff\;"><strong><span style="font-family:calibri\,sans-serif\;">Netflix original biopic</span></strong></span></span><span style="color:black\;"><span style="font-size:11.5pt\;">\, in which she shares her story of tragedy to triumph. Featured in the&nbsp\;</span></span><span style="font-size:18px\;"><span style="color:#0033ff\;"><strong><span style="font-family:calibri\,sans-serif\;">hit series Yellowstone</span></strong></span></span><span style="color:black\;"><span style="font-size:11.5pt\;">&nbsp\;and on&nbsp\;</span></span><span style="color:#0033ff\;"><span style="font-size:11.5pt\;"><strong><span style="font-family:calibri\,sans-serif\;"><span style="font-size:18px\;">The Today Show</span></span></strong></span></span><span style="color:black\;"><span style="font-size:11.5pt\;"><strong><span style="font-family:calibri\,sans-serif\;">\,</span></strong>&nbsp\;Amberley&#39\;s story has inspired millions!</span></span><br />\n&nbsp\;<br />\n<span style="color:black\;"><span style="font-size:11.5pt\;">YOU CAN HELP EMPOWER STRONG FEMALE LEADERS IN OUR COMMUNITY:</span></span>\n<ul>\n	<li style="color:black\;"><strong><span style="font-family:calibri\,sans-serif\;"><span style="font-size:11.5pt\;">Register today!&nbsp\;</span></span></strong><span style="font-size:11.5pt\;">Invite the women in your life to experience Amberley&#39\;s powerful story. Register your mom\, friends\, coworkers\, and even your daughters\; this event is sure to inspire women of all ages!</span></li>\n	<li style="color:black\;"><strong><span style="font-family:calibri\,sans-serif\;"><span style="font-size:11.5pt\;">Donate</span></span></strong><span style="font-size:11.5pt\;">&nbsp\;a gift card/certificate for our GRAND RAFFLE PRIZE\, a designer handbag filled with over $3\,000 in gift cards (think spa services\, local experiences\, outdoor adventures\, restaurants\, wine tastings or women&#39\;s boutiques!)</span></li>\n	<li style="color:black\;"><strong><span style="font-family:calibri\,sans-serif\;"><span style="font-size:11.5pt\;">Sponsor young female leaders</span></span></strong><span style="font-size:11.5pt\;">&nbsp\;from our high schools through our EMPOWER YOUNG FEMALE LEADERS attendance scholarship. Help inspire and empower our future businesswomen!</span></li>\n</ul>\n<strong><span style="color:black\;"><span style="font-family:calibri\,sans-serif\;"><span style="font-size:11.5pt\;">Sponsor this event!</span></span></span></strong><span style="color:black\;"><span style="font-family:calibri\,sans-serif\;"><span style="font-size:11.5pt\;">&nbsp\;Your business can stand with us to show support for strong female leaders in our community. Become a sponsor today! Email connect@cdachamber.com&nbsp\;</span></span></span></div>\n</div>\n
LOCATION:
UID:e.843.23898
SEQUENCE:3
DTSTAMP:20260424T020740Z
URL:http://directory.cdachamber.com/events/details/women-s-luncheon-2022-23898
END:VEVENT

END:VCALENDAR
