BEGIN:VCALENDAR
VERSION:2.0
PRODID:-//ChamberMaster//Event Calendar 2.0//EN
METHOD:PUBLISH
X-PUBLISHED-TTL:P3D
REFRESH-INTERVAL:P3D
CALSCALE:GREGORIAN
BEGIN:VEVENT
DTSTART:20241112T010000Z
DTEND:20241112T023000Z
X-MICROSOFT-CDO-ALLDAYEVENT:FALSE
SUMMARY:Welcome Reception & Dinner - Idaho Legislative Tour 2024
DESCRIPTION:Join us for an exclusive evening on November 11th as the CDA Regional Chamber welcomes our state legislators and representatives!\n\n\n\nThis special event occurs on the first evening of the 2024 Idaho Legislative Tour a 3-day program dedicated to fostering connections between state leaders and our local community while showcasing the remarkable gems and successes we have cultivated in our region.\n\nDon't miss this exceptional chance to sit alongside our legislators and contribute to an evening that will help shape the conversation for Idaho's continued growth and success.
X-ALT-DESC;FMTTYPE=text/html:<p><span style="color:#000000\;"><span style="font-family:arial\;"><span style="font-size:18px\;"><strong>Join us for an exclusive evening on November 11th as the CDA Regional Chamber welcomes our state legislators and representatives!</strong><br />\n<br />\nThis special event occurs on the first evening&nbsp\;of the 2024 Idaho Legislative Tour&mdash\;a 3-day program dedicated to fostering connections between state leaders and our local community while showcasing the remarkable gems and successes we have cultivated in our region.</span></span></span></p>\n\n<p><span style="color:#000000\;"><span style="font-family:arial\;"><span style="font-size:18px\;">Don&rsquo\;t miss this exceptional chance to sit alongside our legislators and contribute to an evening that will help shape the conversation for Idaho&rsquo\;s continued growth and success.</span></span></span></p>\n
LOCATION:Best Western Plus Coeur d'Alene Inn 506 W. Appleway Ave\, Coeur d'Alene\, ID 83814
UID:e.843.32013
SEQUENCE:3
DTSTAMP:20260422T062346Z
URL:http://directory.cdachamber.com/events/details/welcome-reception-dinner-idaho-legislative-tour-2024-32013
END:VEVENT

END:VCALENDAR
