BEGIN:VCALENDAR
VERSION:2.0
PRODID:-//ChamberMaster//Event Calendar 2.0//EN
METHOD:PUBLISH
X-PUBLISHED-TTL:P3D
REFRESH-INTERVAL:P3D
CALSCALE:GREGORIAN
BEGIN:VEVENT
DTSTART:20250513T180000Z
DTEND:20250513T203000Z
X-MICROSOFT-CDO-ALLDAYEVENT:FALSE
SUMMARY:Vision 2025: City & County Forecast
DESCRIPTION:For years\, the Coeur d'Alene Regional Chamber has hosted separate city and county update events but in 2025\, we are bringing our local government leaders together for one powerful\, unified luncheon. This reimagined event will provide an unprecedented opportunity to hear from both city and county leadership in a single setting\, fostering a deeper understanding of our region's progress\, challenges\, and vision for the future.\n\nWhat to Expect:\n\nPart 1: Legacy & Leadership   Harnessing Lessons from the Past to Guide Today's Leaders\n\nIn this unique discussion\, past and present Coeur d'Alene mayors will reflect on pivotal moments in our city's history and the lessons that have shaped our leadership today. Mayor Woody McEvers\, alongside former mayors Jim Hammond\, Steve Widmyer\, Sandi Bloem\, Steve Judy\, and Don Johnston\, will share their experiences navigating growth\, economic shifts\, and community challenges. By understanding the foundation built by past leaders\, we can better prepare for the road ahead.\n\nPart 2: County Growth & Governance   A Look Ahead\n\nWith Kootenai County experiencing rapid growth\, how are our county leaders working to maintain public safety\, infrastructure\, and essential services? Hear directly from Commissioners Leslie Duncan\, Bruce Mattare\, and Marc Eberlein as they outline current initiatives\, collaboration efforts\, and strategies to ensure a thriving future for all.\n\nWhy You Should Attend:\n\n  Exclusive Insights: Gain first-hand knowledge from both city and county leaders in one impactful event.\n\n  Stronger Community Connections: Build relationships with key decision-makers and fellow business and community leaders.\n\n  Valuable Takeaways: Learn how past leadership informs today's decisions and how current projects will shape our future.\n\n  A Unified Vision: Experience the collaboration and strategic planning that are keeping our region strong.\n\nJoin us for this must-attend luncheon as we bring together our city and county leadership for the first time a conversation that will shape the future of Coeur d'Alene and Kootenai County.\n\n  Reserve your seat today!
X-ALT-DESC;FMTTYPE=text/html:<p data-end="563" data-start="127">For years\, the Coeur d&rsquo\;Alene Regional Chamber has hosted separate city and county update events&mdash\;but in 2025\, we are bringing our local government leaders together for one <strong data-end="329" data-start="298">powerful\, unified luncheon.</strong> This reimagined event will provide an unprecedented opportunity to hear from both <strong data-end="442" data-start="412">city and county leadership</strong> in a single setting\, fostering a deeper understanding of our region&rsquo\;s progress\, challenges\, and vision for the future.</p>\n\n<h3 data-end="590" data-start="565"><strong data-end="588" data-start="569">What to Expect:</strong></h3>\n\n<h4 data-end="666" data-start="591"><strong data-end="664" data-start="596">Part 1: Legacy &amp\; Leadership &ndash\;&nbsp\;Harnessing Lessons from the Past to Guide Today&#39\;s Leaders</strong></h4>\n\n<p data-end="1158" data-start="667">In this unique discussion\, <strong data-end="735" data-start="694">past and present Coeur d&rsquo\;Alene mayors</strong> will reflect on pivotal moments in our city&rsquo\;s history and the lessons that have shaped our leadership today. <strong data-end="868" data-start="845">Mayor Woody McEvers</strong>\, alongside former mayors <strong data-end="967" data-start="894">Jim Hammond\, Steve Widmyer\, Sandi Bloem\, Steve Judy\, and Don Johnston</strong>\, will share their experiences navigating growth\, economic shifts\, and community challenges. By understanding the foundation built by past leaders\, we can better prepare for the road ahead.</p>\n\n<h4 data-end="1220" data-start="1160"><strong data-end="1218" data-start="1165">Part 2: County Growth &amp\; Governance &ndash\; A Look Ahead</strong></h4>\n\n<p data-end="1573" data-start="1221">With Kootenai County experiencing rapid growth\, how are our county leaders working to maintain <strong data-end="1373" data-start="1316">public safety\, infrastructure\, and essential services</strong>? Hear directly from <strong data-end="1459" data-start="1394">Commissioners Leslie Duncan\, Bruce Mattare\, and Marc Eberlein</strong> as they outline current initiatives\, collaboration efforts\, and strategies to ensure a thriving future for all.</p>\n\n<h3 data-end="1607" data-start="1575"><strong data-end="1605" data-start="1579">Why You Should Attend:</strong></h3>\n\n<p data-end="2097" data-start="1608">&#9989\; <strong data-end="1633" data-start="1610">Exclusive Insights:</strong> Gain first-hand knowledge from <strong data-end="1697" data-start="1665">both city and county leaders</strong> in one impactful event.<br data-end="1724" data-start="1721" />\n&#9989\; <strong data-end="1761" data-start="1726">Stronger Community Connections:</strong> Build relationships with key decision-makers and fellow business and community leaders.<br data-end="1852" data-start="1849" />\n&#9989\; <strong data-end="1877" data-start="1854">Valuable Takeaways:</strong> Learn how past leadership informs today&rsquo\;s decisions and how current projects will shape our future.<br data-end="1980" data-start="1977" />\n&#9989\; <strong data-end="2003" data-start="1982">A Unified Vision:</strong> Experience the <strong data-end="2059" data-start="2019">collaboration and strategic planning</strong> that are keeping our region strong.</p>\n\n<p data-end="2297" data-start="2099">Join us for this <strong data-end="2140" data-start="2116">must-attend luncheon</strong> as we bring together our <strong data-end="2215" data-start="2166">city and county leadership for the first time</strong>&mdash\;a conversation that will shape the future of Coeur d&rsquo\;Alene and Kootenai County.</p>\n\n<p data-end="2330" data-is-last-node="" data-is-only-node="" data-start="2299">&#128226\; <strong data-end="2330" data-is-last-node="" data-start="2302">Reserve your seat today!</strong></p>\n
LOCATION:The Coeur d'Alene Resort
UID:e.843.32148
SEQUENCE:3
DTSTAMP:20260421T193024Z
URL:http://directory.cdachamber.com/events/details/vision-2025-city-county-forecast-32148
END:VEVENT

END:VCALENDAR
