BEGIN:VCALENDAR
VERSION:2.0
PRODID:-//ChamberMaster//Event Calendar 2.0//EN
METHOD:PUBLISH
X-PUBLISHED-TTL:P3D
REFRESH-INTERVAL:P3D
CALSCALE:GREGORIAN
BEGIN:VEVENT
DTSTART:20240910T140000Z
DTEND:20240910T153000Z
X-MICROSOFT-CDO-ALLDAYEVENT:FALSE
SUMMARY:Upbeat Breakfast - September 2024
DESCRIPTION:Waterwise Living: A Discussion on Lake Quality and Aquifer Protection\n\nJoin us and keynote speaker Caj Matheson\, Councilman for the Coeur d'Alene Tribe and Director of the Tribe's Department of Natural Resources. With extensive experience in tribal governance and environmental management\, Matheson is a champion for sustainable practices and cultural stewardship. From overseeing programs on Fish & Wildlife to Climate Change\, he brings a wealth of knowledge on preserving natural resources. In this enlightening event\, Matheson will share insights on the importance of protecting our lakes and aquifers\, drawing from his upbringing steeped in Coeur d'Alene traditions and his decades-long dedication to environmental advocacy. Don't miss this opportunity to learn from a leader at the forefront of water resource management in Northern Idaho.
X-ALT-DESC;FMTTYPE=text/html:<div style="font-size: 16px\;"><span style="font-family:arial\;"><span style="font-size:18px\;"><strong>Waterwise Living: A Discussion on Lake Quality and Aquifer Protection</strong></span><br />\n<span style="color: rgb(13\, 13\, 13)\; font-size: 16px\; white-space-collapse: preserve\; background-color: rgb(255\, 255\, 255)\;">Join us and keynote speaker Caj Matheson\, Councilman for the Coeur d&#39\;Alene Tribe and Director of the Tribe&#39\;s Department of Natural Resources. With extensive experience in tribal governance and environmental management\, Matheson is a champion for sustainable practices and cultural stewardship. From overseeing programs on Fish &amp\; Wildlife to Climate Change\, he brings a wealth of knowledge on preserving natural resources. In this enlightening event\, Matheson will share insights on the importance of protecting our lakes and aquifers\, drawing from his upbringing steeped in Coeur d&#39\;Alene traditions and his decades-long dedication to environmental advocacy. Don&#39\;t miss this opportunity to learn from a leader at the forefront of water resource management in Northern Idaho.</span></span></div>\n
LOCATION:The Coeur d'Alene Resort Conference Rooms 115 S 2nd St\, Coeur d'Alene\, ID 83814
UID:e.843.30183
SEQUENCE:3
DTSTAMP:20260422T101038Z
URL:http://directory.cdachamber.com/events/details/upbeat-breakfast-september-2024-30183
END:VEVENT

END:VCALENDAR
