BEGIN:VCALENDAR
VERSION:2.0
PRODID:-//ChamberMaster//Event Calendar 2.0//EN
METHOD:PUBLISH
X-PUBLISHED-TTL:P3D
REFRESH-INTERVAL:P3D
CALSCALE:GREGORIAN
BEGIN:VEVENT
DTSTART:20241008T140000Z
DTEND:20241008T153000Z
X-MICROSOFT-CDO-ALLDAYEVENT:FALSE
SUMMARY:Upbeat Breakfast - October 2024
DESCRIPTION:Decoding Prop 1: Open Primaries & Ranked-Choice Voting
X-ALT-DESC;FMTTYPE=text/html:<div style=""><span style="font-family:arial\;"><strong><font color="#000000"><span style="font-size: 18px\; white-space-collapse: preserve\;">Decoding Prop 1: Open Primaries &amp\; Ranked-Choice Voting</span></font></strong></span></div>\n
LOCATION:The Hagadone Event Center 900 S Floating Green Dr\, Coeur d'Alene\, ID 83814
UID:e.843.30184
SEQUENCE:3
DTSTAMP:20260422T081929Z
URL:http://directory.cdachamber.com/events/details/upbeat-breakfast-october-2024-30184
END:VEVENT

END:VCALENDAR
