BEGIN:VCALENDAR
VERSION:2.0
PRODID:-//ChamberMaster//Event Calendar 2.0//EN
METHOD:PUBLISH
X-PUBLISHED-TTL:P3D
REFRESH-INTERVAL:P3D
CALSCALE:GREGORIAN
BEGIN:VEVENT
DTSTART:20241106T150000Z
DTEND:20241106T163000Z
X-MICROSOFT-CDO-ALLDAYEVENT:FALSE
SUMMARY:Upbeat Breakfast - November 2024
DESCRIPTION:Join us for November's Upbeat Breakfast on Wednesday\, November 6\, where we'll spotlight Public Safety and feature a fantastic lineup of individuals committed to keeping our community safe. Chief Lee White\, Chief Sam Abrahamson and Captain Jeremy Hyle will share the latest statistics and updates on local safety efforts. Don't miss this chance to hear from the dedicated professionals working to protect and secure our community
X-ALT-DESC;FMTTYPE=text/html:<div style="font-size: 16px\;">\n<p dir="ltr" style="line-height: 1.8\; margin-top: 12pt\; margin-bottom: 12pt\;"><span id="docs-internal-guid-f4cbe0f6-7fff-f236-4b34-96b6248b29b3"><span background-color:="" color:="" dm="" font-variant-alternates:="" font-variant-east-asian:="" font-variant-numeric:="" font-variant-position:="" style="font-size: 13pt\; font-family: " vertical-align:="" white-space-collapse:="">Join us for November&#39\;s Upbeat Breakfast </span><span background-color:="" color:="" dm="" font-style:="" font-variant-alternates:="" font-variant-east-asian:="" font-variant-numeric:="" font-variant-position:="" font-weight:="" style="font-size: 13pt\; font-family: " vertical-align:="" white-space-collapse:="">on Wednesday\, November 6</span><span background-color:="" color:="" dm="" font-variant-alternates:="" font-variant-east-asian:="" font-variant-numeric:="" font-variant-position:="" style="font-size: 13pt\; font-family: " vertical-align:="" white-space-collapse:="">\, where we&#39\;ll spotlight Public Safety and feature a fantastic lineup of individuals committed to keeping our community safe. Chief Lee White\, Chief Sam Abrahamson and Captain Jeremy Hyle will share the latest statistics and updates on local safety efforts. Don&rsquo\;t miss this chance to hear from the dedicated professionals working to protect and secure our community</span></span></p>\n</div>\n
LOCATION:The Coeur d'Alene Resort Conference Rooms 115 S 2nd St\, Coeur d'Alene\, ID 83814
UID:e.843.30185
SEQUENCE:3
DTSTAMP:20260422T063212Z
URL:http://directory.cdachamber.com/events/details/upbeat-breakfast-november-2024-30185
END:VEVENT

END:VCALENDAR
