BEGIN:VCALENDAR
VERSION:2.0
PRODID:-//ChamberMaster//Event Calendar 2.0//EN
METHOD:PUBLISH
X-PUBLISHED-TTL:P3D
REFRESH-INTERVAL:P3D
CALSCALE:GREGORIAN
BEGIN:VEVENT
DTSTART:20240514T140000Z
DTEND:20240514T153000Z
X-MICROSOFT-CDO-ALLDAYEVENT:FALSE
SUMMARY:Upbeat Breakfast - May 2024
DESCRIPTION:CULTIVATING COMMUNITY VIBRANCY THROUGH CUTURAL ENRICHMENT & RECREATIONAL DEVELOPMENT\n\nJoin us for a captivating journey into the realm of urban planning and community development as we delve into the importance of investing in cultural infrastructure. Our event will feature some incredible individuals who will share their knowledge\, experiences\, and innovative approaches to develop vibrant and inclusive spaces. Discover how thoughtful design and strategic planning can foster creativity\, connection\, and a sense of belonging among residents of all ages and backgrounds.
X-ALT-DESC;FMTTYPE=text/html:<span style="font-family:arial\;"><span style="color: rgb(13\, 13\, 13)\; font-size: 16px\; white-space-collapse: preserve\; background-color: rgb(255\, 255\, 255)\;"><strong>CULTIVATING COMMUNITY VIBRANCY THROUGH CUTURAL ENRICHMENT &amp\; RECREATIONAL DEVELOPMENT</strong><br />\nJoin us for a captivating journey into the realm of urban planning and community development as we delve into the importance of investing in cultural infrastructure. Our event will feature some incredible individuals who will share their knowledge\, experiences\, and innovative approaches to develop vibrant and inclusive spaces. </span><span style="color: rgb(13\, 13\, 13)\; font-size: 16px\; white-space-collapse: preserve\;">Discover how thoughtful design and strategic planning can foster creativity\, connection\, and a sense of belonging among residents of all ages and backgrounds.</span></span>
LOCATION:The Coeur d'Alene Resort 115 S. 2nd St.\, Coeur d'Alene\, ID 83814
UID:e.843.30181
SEQUENCE:3
DTSTAMP:20260422T164649Z
URL:http://directory.cdachamber.com/events/details/upbeat-breakfast-may-2024-30181
END:VEVENT

END:VCALENDAR
