BEGIN:VCALENDAR
VERSION:2.0
PRODID:-//ChamberMaster//Event Calendar 2.0//EN
METHOD:PUBLISH
X-PUBLISHED-TTL:P3D
REFRESH-INTERVAL:P3D
CALSCALE:GREGORIAN
BEGIN:VEVENT
DTSTART:20240312T140000Z
DTEND:20240312T153000Z
X-MICROSOFT-CDO-ALLDAYEVENT:FALSE
SUMMARY:Upbeat Breakfast - March 2024
DESCRIPTION:Inspiring Leadership: How to Lead and Unite Our Community into the Future\n\nJoin us for a captivating presentation\, led by one of our highly respected business and community leaders\, about how to lead and unite our community into the future. This highly anticipated topic promises valuable insights and opportunities for each of us to engage in. We will also celebrate the Leadership CDA Class of 2023 and welcome the new 2024 class. Secure your seat now before they're all taken!
X-ALT-DESC;FMTTYPE=text/html:<span style="font-family:arial\;"><span style="font-size:18px\;"><span style="color:#000000\;"><b style="font-family: arial\; font-size: 16px\;">Inspiring Leadership: How to Lead and Unite Our Community into the Future</b></span></span></span><br />\n<span style="color: black\; font-family: arial\; font-size: 16px\; text-align: center\;">Join us for a captivating presentation\, led by one of our highly respected business and community leaders\, about how to </span><b style="color: black\; font-family: arial\; font-size: 16px\; text-align: center\;">lead and unite our community into the future</b><span style="color: black\; font-family: arial\; font-size: 16px\; text-align: center\;">. This highly anticipated topic promises valuable insights and opportunities for each of us to engage in. We will also celebrate the Leadership CDA Class of 2023 and welcome the new 2024 class. Secure your seat now before they&#39\;re all taken!</span>
LOCATION:The Hagadone Event Center 900 S Floating Green Dr\, Coeur d'Alene\, ID 83814
UID:e.843.30150
SEQUENCE:3
DTSTAMP:20260422T200539Z
URL:http://directory.cdachamber.com/events/details/upbeat-breakfast-march-2024-03-12-2024-30150
END:VEVENT

END:VCALENDAR
