BEGIN:VCALENDAR
VERSION:2.0
PRODID:-//ChamberMaster//Event Calendar 2.0//EN
METHOD:PUBLISH
X-PUBLISHED-TTL:P3D
REFRESH-INTERVAL:P3D
CALSCALE:GREGORIAN
BEGIN:VEVENT
DTSTART:20240611T140000Z
DTEND:20240611T153000Z
X-MICROSOFT-CDO-ALLDAYEVENT:FALSE
SUMMARY:Upbeat Breakfast - June 2024
DESCRIPTION:REAL SOLUTIONS: ADDRESSING THE HOUSING CRISIS\n\nExplore actionable strategies to tackle the housing crisis facing our community. Hear from forward-thinking panelists who are at the forefront of housing advocacy and solutions in our region.\n\n	Panelists:\n	Kiki Miller\, City of Coeur d'Alene Council Member\n	Maggie Lyons\, Executive Director of Panhandle Affordable Housing Alliance\n	Tess Reasor\, Executive Director of HomeShare Kootenai County\n	James Casper\, Executive Director of Habitat for Humanity of North Idaho\n\nJoin our panelists and delve into the current housing crisis\, explaining its implications for local businesses and the broader community. Walk alongside our expert panelists\, as they discuss the collaborative efforts underway to create diverse housing solutions\, the challenges faced in these initiatives\, and the tangible impacts being achieved. Attendees will gain valuable insights into the importance of workforce housing\, innovative strategies being employed\, and how these efforts are driving measurable success\, ensuring a sustainable future for Coeur d'Alene. Don't miss this opportunity to learn\, engage\, and contribute to solving a critical issue that affects us all.
X-ALT-DESC;FMTTYPE=text/html:<span style="color:#000000\;"><span style="font-size:18px\;"><span style="font-family:arial\;"><u><strong>REAL SOLUTIONS: ADDRESSING THE HOUSING CRISIS</strong></u><br />\nExplore actionable strategies to tackle the housing crisis facing our community. Hear from forward-thinking panelists who are at the forefront of housing advocacy and solutions in our region.</span></span></span>\n<ul>\n	<li><span style="font-size:20px\;"><u><strong><span style="color:#000000\;"><span style="font-family:arial\;">Panelists:</span></span></strong></u></span></li>\n	<li><span style="color:#000000\;"><span style="font-size:18px\;"><span style="font-family:arial\;"><strong>Kiki Miller</strong>\, City of Coeur d&#39\;Alene Council Member</span></span></span></li>\n	<li><span style="color:#000000\;"><span style="font-size:18px\;"><span style="font-family:arial\;"><strong>Maggie Lyons</strong>\, Executive Director of Panhandle Affordable Housing Alliance</span></span></span></li>\n	<li><span style="color:#000000\;"><span style="font-size:18px\;"><span style="font-family:arial\;"><b>Tess Reasor</b>\, Executive Director of HomeShare Kootenai County</span></span></span></li>\n	<li><span style="color:#000000\;"><span style="font-size:18px\;"><span style="font-family:arial\;"><strong>James Casper</strong>\, Executive Director of Habitat for Humanity of North Idaho</span></span></span></li>\n</ul>\n<span style="font-size:18px\;"><span style="font-family:arial\;"><span style="color:#000000\;"><span style="background:white\;">Join our panelists and delve into the current housing crisis\, explaining its implications for local businesses and the broader community. Walk alongside our expert panelists\, as they discuss the collaborative efforts underway to create diverse housing solutions\, the challenges faced in these initiatives\, and the tangible impacts being achieved. Attendees will gain valuable insights into the importance of workforce housing\, innovative strategies being employed\, and how these efforts are driving measurable success\, ensuring a sustainable future for Coeur d&#39\;Alene. Don&#39\;t miss this </span><span style="background:white\;">opportunity to learn\, engage\, and contribute to solving a critical issue that affects us all.</span></span></span></span>
LOCATION:The Coeur d'Alene Resort Conference Rooms 115 S 2nd St\, Coeur d'Alene\, ID 83814
UID:e.843.30182
SEQUENCE:3
DTSTAMP:20260422T152221Z
URL:http://directory.cdachamber.com/events/details/upbeat-breakfast-june-2024-30182
END:VEVENT

END:VCALENDAR
