BEGIN:VCALENDAR
VERSION:2.0
PRODID:-//ChamberMaster//Event Calendar 2.0//EN
METHOD:PUBLISH
X-PUBLISHED-TTL:P3D
REFRESH-INTERVAL:P3D
CALSCALE:GREGORIAN
BEGIN:VEVENT
DTSTART:20250114T150000Z
DTEND:20250114T170000Z
X-MICROSOFT-CDO-ALLDAYEVENT:FALSE
SUMMARY:Upbeat Breakfast - January 2025
DESCRIPTION:MAXIMIZE YOUR MEMBERSHIP\n\nJoin us for the first Upbeat Breakfast of the Year\, Maximize Your Membership\, an engaging and informative event tailored to help you unlock the full potential of your Chamber membership. Whether you're a new member or a seasoned supporter\, this session will provide valuable insights to help you grow your business\, expand your network\, and amplify your impact in the community.\nDiscover how your membership benefits extend beyond your company's success. By being part of the Chamber\, you're also investing in initiatives that make Coeur d'Alene a better place for everyone.\n\n\n\nYour membership helps fund:\n\n\n	Student scholarships that empower the next generation of leaders.\n	Community forums addressing critical issues like fentanyl awareness and public safety.\n	Advocacy efforts to support local businesses and foster economic growth.\n\n\nDuring this session\, you'll learn how to:\n\n\n	Leverage marketing and promotional opportunities tailored to your business.\n	Navigate Chamber resources and tools for maximum impact.\n	Get involved in committees\, events\, and programs that align with your goals.\n	Build meaningful connections with fellow members and community leaders.
X-ALT-DESC;FMTTYPE=text/html:<span style="color:#000000\;"><span style="font-size:20px\;"><font face="arial"><b>MAXIMIZE YOUR MEMBERSHIP</b></font></span><br />\n<span style="font-family: arial\; font-size: 18px\;">Join us for the first Upbeat Breakfast of the Year\,&nbsp\;</span><em style="font-family: arial\; font-size: 18px\;">Maximize Your Membership\,</em><span style="font-family: arial\; font-size: 18px\;"> an engaging and informative event tailored to help you unlock the full potential of your Chamber membership. Whether you&rsquo\;re a new member or a seasoned supporter\, this session will provide valuable insights to help you grow your business\, expand your network\, and amplify your impact in the community.</span></span>\n<p><span style="color:#000000\;"><span style="font-size:18px\;"><span style="font-family:arial\;">Discover how your membership benefits extend beyond your company&rsquo\;s success. By being part of the Chamber\, you&rsquo\;re also investing in initiatives that make Coeur d&rsquo\;Alene a better place for everyone.<br />\n<br />\n<strong>Your membership helps fund:</strong></span></span></span></p>\n\n<ul>\n	<li><span style="color:#000000\;"><span style="font-size:18px\;"><span style="font-family:arial\;"><strong>Student scholarships</strong> that empower the next generation of leaders.</span></span></span></li>\n	<li><span style="color:#000000\;"><span style="font-size:18px\;"><span style="font-family:arial\;"><strong>Community forums</strong> addressing critical issues like fentanyl awareness and public safety.</span></span></span></li>\n	<li><span style="color:#000000\;"><span style="font-size:18px\;"><span style="font-family:arial\;"><strong>Advocacy efforts</strong> to support local businesses and foster economic growth.</span></span></span></li>\n</ul>\n\n<p><span style="color:#000000\;"><strong><span style="font-size:18px\;"><span style="font-family:arial\;">During this session\, you&rsquo\;ll learn how to:</span></span></strong></span></p>\n\n<ul>\n	<li><span style="color:#000000\;"><span style="font-size:18px\;"><span style="font-family:arial\;">Leverage marketing and promotional opportunities tailored to your business.</span></span></span></li>\n	<li><span style="color:#000000\;"><span style="font-size:18px\;"><span style="font-family:arial\;">Navigate Chamber resources and tools for maximum impact.</span></span></span></li>\n	<li><span style="color:#000000\;"><span style="font-size:18px\;"><span style="font-family:arial\;">Get involved in committees\, events\, and programs that align with your goals.</span></span></span></li>\n	<li><span style="color:#000000\;"><span style="font-size:18px\;"><span style="font-family:arial\;">Build meaningful connections with fellow members and community leaders.</span></span></span></li>\n</ul>\n
LOCATION:The Coeur d'Alene Resort Conference Rooms 115 S 2nd St\, Coeur d'Alene\, ID 83814
UID:e.843.32081
SEQUENCE:3
DTSTAMP:20260422T024318Z
URL:http://directory.cdachamber.com/events/details/upbeat-breakfast-january-2025-32081
END:VEVENT

END:VCALENDAR
