BEGIN:VCALENDAR
VERSION:2.0
PRODID:-//ChamberMaster//Event Calendar 2.0//EN
METHOD:PUBLISH
X-PUBLISHED-TTL:P3D
REFRESH-INTERVAL:P3D
CALSCALE:GREGORIAN
BEGIN:VEVENT
DTSTART:20240109T150000Z
DTEND:20240109T163000Z
X-MICROSOFT-CDO-ALLDAYEVENT:FALSE
SUMMARY:Upbeat Breakfast - January 2024
DESCRIPTION:Unhoused in North Idaho\nJoin us for an insightful and compassionate discussion aimed at understanding the challenges faced by our community members without stable housing. Larry Riley\, Executive Director of St. Vincent de Paul of North Idaho\, will lead an insightful discussion and share valuable perspectives on this pressing matter affecting our community. \n\n\n\nYOU CAN HELP!! Your support is pivotal\, and if you are inclined to make a difference\, consider contributing to the most immediate needs of our community cash and men's clothing. We encourage you to bring your donations to the upcoming Upbeat Breakfast next week. \n\n \n\nSpecial thank you to our Event Sponsor\, Heritage Health\, and to our Music Sponsor\, Lake City High School Jazz Band.
X-ALT-DESC;FMTTYPE=text/html:<span style="font-family:arial\;"><strong><span style="font-size: 16px\;">Unhoused in North Idaho</span></strong></span>\n<div style="color: rgb(55\, 65\, 81)\; font-size: 16px\; white-space-collapse: preserve\;"><span style="font-family:arial\;">Join us for an insightful and compassionate discussion aimed at understanding the challenges faced by our community members without stable housing. <span style="color:black\;"><span style="font-size:12.0pt\;">Larry Riley\, Executive Director of St. Vincent de Paul of North Idaho\, will lead an insightful discussion and share valuable perspectives on this pressing matter affecting our community.&nbsp\;<br />\n<br />\nYOU CAN HELP!! Your support is pivotal\, and if you are inclined to make a difference\, consider contributing to the most immediate needs of our community&mdash\;cash and men&#39\;s clothing. We encourage you to bring your donations to the upcoming Upbeat Breakfast next week. </span></span></span><br />\n<span style="font-family:arial\;">&nbsp\;<br />\n<span style="color:black\;"><span style="font-size:12.0pt\;">Special thank you to our Event Sponsor\, Heritage Health\, and to our Music Sponsor\, Lake City High School Jazz Band.</span></span></span></div>\n
LOCATION:The Coeur d'Alene Resort Conference Rooms 115 S 2nd St\, Coeur d'Alene\, ID 83814
UID:e.843.30144
SEQUENCE:3
DTSTAMP:20260422T234124Z
URL:http://directory.cdachamber.com/events/details/upbeat-breakfast-january-2024-30144
END:VEVENT

END:VCALENDAR
