BEGIN:VCALENDAR
VERSION:2.0
PRODID:-//ChamberMaster//Event Calendar 2.0//EN
METHOD:PUBLISH
X-PUBLISHED-TTL:P3D
REFRESH-INTERVAL:P3D
CALSCALE:GREGORIAN
BEGIN:VEVENT
DTSTART:20240213T150000Z
DTEND:20240213T163000Z
X-MICROSOFT-CDO-ALLDAYEVENT:FALSE
SUMMARY:Upbeat Breakfast - February 2024
DESCRIPTION:Pathways to Health: Bridging Gaps in Healthcare Access\n\nEmbark on a transformative journey with Mike Baker\, CEO of Heritage Health\, as he presents "Pathways to Health: Bridging Gaps in Healthcare Access." In this keynote\, Baker\, a visionary leader in the healthcare industry\, will address the challenges surrounding equitable healthcare access and share insights on innovative solutions. Join us for a compelling exploration of collaborative approaches\, technology integration\, and community engagement initiatives aimed at breaking down barriers to healthcare access. This keynote is a call to action\, inspiring healthcare professionals\, policymakers\, and advocates to work collectively toward a future where healthcare is a universal right.\n\n\n\nJoin us for our monthly Upbeat Breakfast! Engage in this networking opportunity with fellow businesses while delving into a highly anticipated and sought-after topic that our members have eagerly awaited. Don't miss out on this chance to connect\, learn\, and elevate your business community through valuable connections.
X-ALT-DESC;FMTTYPE=text/html:<span style="font-size:18px\;"><span style="color:#000000\;"><span style="font-family:arial\;"><b>Pathways to Health: Bridging Gaps in Healthcare Access</b><br />\nEmbark on a transformative journey with Mike Baker\, CEO of Heritage Health\, as he presents &quot\;Pathways to Health: Bridging Gaps in Healthcare Access.&quot\; In this keynote\, Baker\, a visionary leader in the healthcare industry\, will address the challenges surrounding equitable healthcare access and share insights on innovative solutions. Join us for a compelling exploration of collaborative approaches\, technology integration\, and community engagement initiatives aimed at breaking down barriers to healthcare access. This keynote is a call to action\, inspiring healthcare professionals\, policymakers\, and advocates to work collectively toward a future where healthcare is a universal right.<br style="font-family: arial\; font-size: 16px\;" />\n<br />\n<span style="white-space-collapse: preserve\;">Join us for our monthly Upbeat Breakfast! Engage in this networking opportunity with fellow businesses while delving into a highly anticipated and sought-after topic that our members have eagerly awaited. Don&#39\;t miss out on this chance to connect\, learn\, and elevate your business community through valuable connections.</span></span></span></span>
LOCATION:The Coeur d'Alene Resort Conference Rooms 115 S 2nd St\, Coeur d'Alene\, ID 83814
UID:e.843.30149
SEQUENCE:3
DTSTAMP:20260422T215312Z
URL:http://directory.cdachamber.com/events/details/upbeat-breakfast-february-2024-30149
END:VEVENT

END:VCALENDAR
