BEGIN:VCALENDAR
VERSION:2.0
PRODID:-//ChamberMaster//Event Calendar 2.0//EN
METHOD:PUBLISH
X-PUBLISHED-TTL:P3D
REFRESH-INTERVAL:P3D
CALSCALE:GREGORIAN
BEGIN:VEVENT
DTSTART:20241210T150000Z
DTEND:20241210T163000Z
X-MICROSOFT-CDO-ALLDAYEVENT:FALSE
SUMMARY:Upbeat Breakfast - December 2024
DESCRIPTION:DRIVING ECONOMIC GROWTH THROUGH CLIMATE INNOVATION\nJoin us for a thought-provoking December Upbeat Breakfast\, presented by Idaho Community Foundation\, as we explore the intersection of economic development and an unexpected but crucial topic: climate change. This engaging conversation will uncover how addressing environmental challenges can drive innovation\, foster sustainable growth\, and create new opportunities for our region's economy.\n\n \n\nGain fresh insights from Aiyana James\, Climate Resilience Coordinator and Zachery Miller\, Energy Coordinator from the Coeur d'Alene Tribe and learn how businesses and communities can adapt and thrive by embracing\n\nforward-thinking strategies.
X-ALT-DESC;FMTTYPE=text/html:<strong><span style="font-size:20px\;"><span style="color:#000000\;"><font face="arial"><span style="white-space-collapse: preserve\;">DRIVING ECONOMIC GROWTH THROUGH CLIMATE INNOVATION</span></font></span></span></strong>\n<p direction:="" font-size:="" helvetica="" line-height:="" style="margin: 0px\; padding: 0px\; word-break: break-word\; color: rgb(0\, 0\, 0)\; font-family: " text-align:=""><span style="color:#000000\;"><span style="font-size:18px\;"><span style="font-family:arial\;"><span data-olk-copy-source="MessageBody" style="border: 0px\; font-style: inherit\; font-variant: inherit\; font-weight: inherit\; font-stretch: inherit\; line-height: inherit\; font-optical-sizing: inherit\; font-size-adjust: inherit\; font-kerning: inherit\; font-feature-settings: inherit\; font-variation-settings: inherit\; margin: 0px\; padding: 0px\; vertical-align: baseline\;">Join us for a thought-provoking December Upbeat Breakfast\, presented by Idaho Community Foundation\, as we explore the intersection of economic development and an unexpected but crucial topic: climate change. This engaging conversation will uncover how addressing environmental challenges can drive innovation\, foster sustainable growth\, and create new opportunities for our region&#39\;s economy.</span></span></span></span></p>\n\n<p direction:="" font-size:="" helvetica="" line-height:="" style="margin: 0px\; padding: 0px\; word-break: break-word\; color: rgb(0\, 0\, 0)\; font-family: " text-align:="">&nbsp\;</p>\n\n<p direction:="" font-size:="" helvetica="" line-height:="" style="margin: 0px\; padding: 0px\; word-break: break-word\; color: rgb(0\, 0\, 0)\; font-family: " text-align:=""><span style="color:#000000\;"><span style="font-size:18px\;"><span style="font-family:arial\;"><span style="border: 0px\; font-style: inherit\; font-variant: inherit\; font-weight: inherit\; font-stretch: inherit\; line-height: inherit\; font-optical-sizing: inherit\; font-size-adjust: inherit\; font-kerning: inherit\; font-feature-settings: inherit\; font-variation-settings: inherit\; margin: 0px\; padding: 0px\; vertical-align: baseline\;">Gain fresh insights from&nbsp\;Aiyana James\, Climate Resilience Coordinator and Zachery Miller\, Energy Coordinator from the Coeur d&rsquo\;Alene Tribe&nbsp\;and learn how businesses and communities can adapt and thrive by embracing</span></span></span></span></p>\n\n<p direction:="" font-size:="" helvetica="" line-height:="" style="margin: 0px\; padding: 0px\; word-break: break-word\; color: rgb(0\, 0\, 0)\; font-family: " text-align:=""><span style="color:#000000\;"><span style="font-size:18px\;"><span style="font-family:arial\;"><span style="border: 0px\; font-style: inherit\; font-variant: inherit\; font-weight: inherit\; font-stretch: inherit\; line-height: inherit\; font-optical-sizing: inherit\; font-size-adjust: inherit\; font-kerning: inherit\; font-feature-settings: inherit\; font-variation-settings: inherit\; margin: 0px\; padding: 0px\; vertical-align: baseline\;">forward-thinking strategies.</span></span></span></span></p>\n
LOCATION:The Coeur d'Alene Resort Conference Rooms 115 S 2nd St\, Coeur d'Alene\, ID 83814
UID:e.843.30186
SEQUENCE:3
DTSTAMP:20260422T043707Z
URL:http://directory.cdachamber.com/events/details/upbeat-breakfast-december-2024-30186
END:VEVENT

END:VCALENDAR
