BEGIN:VCALENDAR
VERSION:2.0
PRODID:-//ChamberMaster//Event Calendar 2.0//EN
METHOD:PUBLISH
X-PUBLISHED-TTL:P3D
REFRESH-INTERVAL:P3D
CALSCALE:GREGORIAN
BEGIN:VEVENT
DTSTART:20240419T140000Z
DTEND:20240419T160000Z
X-MICROSOFT-CDO-ALLDAYEVENT:FALSE
SUMMARY:Upbeat Breakfast - April 2024
DESCRIPTION:Scholarship Breakfast - FRIDAY\, APRIL 19\nJoin us in celebrating our 2024 student scholarship recipients at our April Upbeat Breakfast! Over the years\, the Coeur d'Alene Regional Chamber has had the pleasure of supporting our next generation of leaders through the generous sponsorships of our business community.\n\nThis breakfast is a testament to the unwavering commitment of our community to empower and uplift our students as they pursue their educational dreams. We invite you to share in the joy and success of these talented individuals. Be a part of this inspiring morning\, where we come together to honor and uplift the promising students who represent the future of our community. Join us at the April Upbeat Breakfast as we celebrate the bright minds and boundless potential of our 2024 scholarship recipients!
X-ALT-DESC;FMTTYPE=text/html:<span style="font-size:18px\;"><span style="font-family:arial\;"><strong>Scholarship Breakfast - <span style="color:#FF0000\;">FRIDAY\, APRIL 19</span></strong></span></span>\n<div style="color: rgb(55\, 65\, 81)\; font-size: 16px\; white-space-collapse: preserve\;"><span style="font-size:18px\;"><span style="font-family:arial\;">Join us in celebrating our 2024 student scholarship recipients at our April Upbeat Breakfast! Over the years\, the Coeur d&#39\;Alene Regional Chamber has had the pleasure of supporting our next generation of leaders through the generous sponsorships of our business community.<br />\nThis breakfast is a testament to the unwavering commitment of our community to empower and uplift our students as they pursue their educational dreams. We invite you to share in the joy and success of these talented individuals. Be a part of this inspiring morning\, where we come together to honor and uplift the promising students who represent the future of our community. Join us at the April Upbeat Breakfast as we celebrate the bright minds and boundless potential of our 2024 scholarship recipients!</span></span></div>\n
LOCATION:The Coeur d'Alene Resort Conference Rooms 115 S 2nd St\, Coeur d'Alene\, ID 83814
UID:e.843.30180
SEQUENCE:3
DTSTAMP:20260422T184519Z
URL:http://directory.cdachamber.com/events/details/upbeat-breakfast-april-2024-30180
END:VEVENT

END:VCALENDAR
