BEGIN:VCALENDAR
VERSION:2.0
PRODID:-//ChamberMaster//Event Calendar 2.0//EN
METHOD:PUBLISH
X-PUBLISHED-TTL:P3D
REFRESH-INTERVAL:P3D
CALSCALE:GREGORIAN
BEGIN:VEVENT
DTSTART:20231108T150000Z
DTEND:20231108T163000Z
X-MICROSOFT-CDO-ALLDAYEVENT:FALSE
SUMMARY:Upbeat Breakfast - 11/14/2023
DESCRIPTION:Upbeat Breakfast - November 2023\n\n\n\nCreating a giving culture: The ripple effect of supporting nonprofits
X-ALT-DESC;FMTTYPE=text/html:Upbeat Breakfast - November 2023<br />\n<br />\nCreating a giving culture: The ripple effect of supporting nonprofits<br />\n&nbsp\;
LOCATION:Coeur d'Alene Resort 115 S 2nd Street\, Coeur d'Alene\, ID
UID:e.843.27893
SEQUENCE:3
DTSTAMP:20260423T033542Z
URL:http://directory.cdachamber.com/events/details/upbeat-breakfast-11-14-2023-27893
END:VEVENT

END:VCALENDAR
