BEGIN:VCALENDAR
VERSION:2.0
PRODID:-//ChamberMaster//Event Calendar 2.0//EN
METHOD:PUBLISH
X-PUBLISHED-TTL:P3D
REFRESH-INTERVAL:P3D
CALSCALE:GREGORIAN
BEGIN:VEVENT
DTSTART:20231010T140000Z
DTEND:20231010T153000Z
X-MICROSOFT-CDO-ALLDAYEVENT:FALSE
SUMMARY:Upbeat Breakfast - 10/10/2023
DESCRIPTION:Upbeat Breakfast - October 2023\n\nThe Power of Strategic Partnerships\n\n\n\nUnlock the potential of collaboration and discover the art of building powerful strategic partnerships at our dynamic event\, "The Power of Strategic Partnerships." In today's interconnected world\, the ability to forge strategic alliances is the key to success for businesses\, nonprofits\, and individuals alike.\n\n\n\nJoin us for an enlightening and interactive experience where you will gain insights\, strategies\, and practical knowledge on harnessing the synergy of partnerships to achieve remarkable results. You will hear about an amazing opportunity that businesses in our area are working together on\, that could create a regional tech and manufacturing hub right here in the Inland Northwest.
X-ALT-DESC;FMTTYPE=text/html:Upbeat Breakfast - October 2023<br />\nThe Power of Strategic Partnerships<br />\n<br />\nUnlock the potential of collaboration and discover the art of building powerful strategic partnerships at our dynamic event\, &quot\;The Power of Strategic Partnerships.&quot\; In today&#39\;s interconnected world\, the ability to forge strategic alliances is the key to success for businesses\, nonprofits\, and individuals alike.<br />\n<br />\nJoin us for an enlightening and interactive experience where you will gain insights\, strategies\, and practical knowledge on harnessing the synergy of partnerships to achieve remarkable results. You will hear about an amazing opportunity that businesses in our area are working together on\, that could create a regional tech and manufacturing hub right here in the Inland Northwest.&nbsp\;
LOCATION:Coeur d'Alene Resort 115 S 2nd Street\, Coeur d'Alene\, ID
UID:e.843.27892
SEQUENCE:3
DTSTAMP:20260423T071409Z
URL:http://directory.cdachamber.com/events/details/upbeat-breakfast-10-10-2023-27892
END:VEVENT

END:VCALENDAR
