BEGIN:VCALENDAR
VERSION:2.0
PRODID:-//ChamberMaster//Event Calendar 2.0//EN
METHOD:PUBLISH
X-PUBLISHED-TTL:P3D
REFRESH-INTERVAL:P3D
CALSCALE:GREGORIAN
BEGIN:VEVENT
DTSTART:20230912T140000Z
DTEND:20230912T153000Z
X-MICROSOFT-CDO-ALLDAYEVENT:FALSE
SUMMARY:Upbeat Breakfast - 09/12/2023
DESCRIPTION:Upbeat Breakfast - September 2023\n\nPreserving Our Beautiful Natural Resources: How our choices today impact the future of north Idaho
X-ALT-DESC;FMTTYPE=text/html:Upbeat Breakfast - September 2023<br />\nPreserving Our Beautiful Natural Resources: How our choices today impact the future of north Idaho
LOCATION:Coeur d'Alene Resort 115 S 2nd Street\, Coeur d'Alene\, ID
UID:e.843.27891
SEQUENCE:3
DTSTAMP:20260423T071552Z
URL:http://directory.cdachamber.com/events/details/upbeat-breakfast-09-12-2023-27891
END:VEVENT

END:VCALENDAR
