BEGIN:VCALENDAR
VERSION:2.0
PRODID:-//ChamberMaster//Event Calendar 2.0//EN
METHOD:PUBLISH
X-PUBLISHED-TTL:P3D
REFRESH-INTERVAL:P3D
CALSCALE:GREGORIAN
BEGIN:VEVENT
DTSTART:20230613T140000Z
DTEND:20230613T153000Z
X-MICROSOFT-CDO-ALLDAYEVENT:FALSE
SUMMARY:Upbeat Breakfast - 06/13/2023
DESCRIPTION:Upbeat Breakfast - June 2023\n\n\n\nAffordable Housing
X-ALT-DESC;FMTTYPE=text/html:Upbeat Breakfast - June 2023<br />\n<br />\nAffordable Housing<br />\n&nbsp\;
LOCATION:Coeur d'Alene Resort 115 S 2nd Street\, Coeur d'Alene\, ID
UID:e.843.27890
SEQUENCE:3
DTSTAMP:20260423T123230Z
URL:http://directory.cdachamber.com/events/details/upbeat-breakfast-06-13-2023-27890
END:VEVENT

END:VCALENDAR
