BEGIN:VCALENDAR
VERSION:2.0
PRODID:-//ChamberMaster//Event Calendar 2.0//EN
METHOD:PUBLISH
X-PUBLISHED-TTL:P3D
REFRESH-INTERVAL:P3D
CALSCALE:GREGORIAN
BEGIN:VEVENT
DTSTART:20230411T140000Z
DTEND:20230411T154500Z
X-MICROSOFT-CDO-ALLDAYEVENT:FALSE
SUMMARY:Upbeat Breakfast - 04/11/2023
DESCRIPTION:Upbeat Breakfast - April 2023\nWe are thrilled to celebrate our region's amazing graduating seniors at our annual Top Scholars Upbeat Breakfast! Join us as we honor and invest in the future workforce. Please help support these top scholars through one of three sponsorship opportunities: gift bag donations\, $50 student sponsorships\, and $1\,000 scholarship awards.
X-ALT-DESC;FMTTYPE=text/html:Upbeat Breakfast - April 2023\n<p><span style="font-size: 14px\;"><span style="font-size: 16px\;">We are thrilled to celebrate our region&#39\;s amazing graduating seniors at our annual Top Scholars&nbsp\;Upbeat Breakfast!&nbsp\;Join us as we honor and&nbsp\;invest in the future workforce.&nbsp\;</span></span><span style="font-size: 16px\;"><span style="font-family: arial\;">Please help support these top scholars through one of three sponsorship opportunities: gift bag donations\, $50 student sponsorships\, and $1\,000 scholarship awards.&nbsp\;&nbsp\;</span></span></p>\n
LOCATION:Coeur d'Alene Resort 115 S 2nd Street\, Coeur d'Alene\, ID
UID:e.843.27888
SEQUENCE:3
DTSTAMP:20260423T181511Z
URL:http://directory.cdachamber.com/events/details/upbeat-breakfast-04-11-2023-27888
END:VEVENT

END:VCALENDAR
