BEGIN:VCALENDAR
VERSION:2.0
PRODID:-//ChamberMaster//Event Calendar 2.0//EN
METHOD:PUBLISH
X-PUBLISHED-TTL:P3D
REFRESH-INTERVAL:P3D
CALSCALE:GREGORIAN
BEGIN:VEVENT
DTSTART:20230110T150000Z
DTEND:20230110T163000Z
X-MICROSOFT-CDO-ALLDAYEVENT:FALSE
SUMMARY:Upbeat Breakfast - 01/10/2023
DESCRIPTION:Upbeat Breakfast - January 2023\n\n\n\nA.L.I.C.E.: Asset Limited\, Income Constrained\, Employed - households that earn above the Federal Poverty Level (FPL) but cannot afford the basic cost of living in their county. At this Upbeat Breakfast Mark Tucker and Keri Cederquist will present how we\, as business owners and leaders\, can build strategies to help support these families through affordable childcare and early childhood education initiatives. Whether you have young children in your family or employees with young children\, this crisis impacts us all!
X-ALT-DESC;FMTTYPE=text/html:Upbeat Breakfast - January 2023<br />\n<br />\n<strong><span style="color:black\;"><span style="font-family:calibri\,sans-serif\;"><span style="font-size:11.5pt\;">A.L.I.C.E.: A</span></span></span></strong><span style="color:black\;"><span style="font-size:11.5pt\;">sset&nbsp\;<strong><span style="font-family:calibri\,sans-serif\;">L</span></strong>imited\,&nbsp\;<strong><span style="font-family:calibri\,sans-serif\;">I</span></strong>ncome&nbsp\;<strong><span style="font-family:calibri\,sans-serif\;">C</span></strong>onstrained\,&nbsp\;<strong><span style="font-family:calibri\,sans-serif\;">E</span></strong>mployed - households that earn above the Federal Poverty Level (FPL) but cannot afford the basic cost of living in their county. At this Upbeat Breakfast Mark Tucker and Keri Cederquist will present how we\, as business owners and leaders\, can build strategies to help support these families through affordable childcare and early childhood education initiatives. Whether you have young children in your family or employees with young children\, this crisis impacts us all!</span></span><br />\n<br />\n&nbsp\;
LOCATION:The Coeur d'Alene Resort 115 S 2nd Street\, Coeur d'Alene\, ID
UID:e.843.27779
SEQUENCE:3
DTSTAMP:20260423T221445Z
URL:http://directory.cdachamber.com/events/details/upbeat-breakfast-01-10-2023-27779
END:VEVENT

END:VCALENDAR
