BEGIN:VCALENDAR
VERSION:2.0
PRODID:-//ChamberMaster//Event Calendar 2.0//EN
METHOD:PUBLISH
X-PUBLISHED-TTL:P3D
REFRESH-INTERVAL:P3D
CALSCALE:GREGORIAN
BEGIN:VEVENT
DTSTART:20171028T200000Z
DTEND:20171028T210000Z
X-MICROSOFT-CDO-ALLDAYEVENT:FALSE
SUMMARY:Trick or Treat at The Well Read Moose
DESCRIPTION:Children are welcome to come in their costumes for treats and to enter a drawing for a children's book!
X-ALT-DESC;FMTTYPE=text/html:Children are welcome to come in their costumes for treats and to enter a drawing for a children&#39\;s book!
LOCATION:2048 N Main Street Coeur d'Alene\, Idaho
UID:e.843.11566
SEQUENCE:3
DTSTAMP:20260425T193238Z
URL:http://directory.cdachamber.com/events/details/trick-or-treat-at-the-well-read-moose-11566
END:VEVENT

END:VCALENDAR
