BEGIN:VCALENDAR
VERSION:2.0
PRODID:-//ChamberMaster//Event Calendar 2.0//EN
METHOD:PUBLISH
X-PUBLISHED-TTL:P3D
REFRESH-INTERVAL:P3D
CALSCALE:GREGORIAN
BEGIN:VEVENT
DTSTART:20171031T230000Z
DTEND:20171101T010000Z
X-MICROSOFT-CDO-ALLDAYEVENT:FALSE
SUMMARY:TRICK OR TREAT AT GARDEN PLAZA
DESCRIPTION:TRICK OR TREAT at the Garden Trick or Treat in a safe friendly environment.  Last year over 1\,000 pounds of candy was donated and given away to our local youth. Come out and join us this yea and experience what it means to Trick or Treat in Style in the area's premier Senior Living.  Questions? Call 208-773-3701
X-ALT-DESC;FMTTYPE=text/html:<p><span style="font-family: calibri\,sans-serif\;">TRICK OR TREAT&nbsp\;at the Garden&nbsp\;Trick or Treat in a safe friendly environment.&nbsp\; Last year over 1\,000 pounds of candy was donated and given away to our local youth. Come out and join us this yea and experience what it means to Trick or Treat in Style in the area&#39\;s premier Senior Living.&nbsp\; Questions? Call 208-773-3701</span></p>\n
LOCATION:Garden Plaza of Post Falls 545 N Garden Plaza of Post Falls Post Falls\, ID 83854
UID:e.843.11557
SEQUENCE:3
DTSTAMP:20260425T193412Z
URL:http://directory.cdachamber.com/events/details/trick-or-treat-at-garden-plaza-11557
END:VEVENT

END:VCALENDAR
