BEGIN:VCALENDAR
VERSION:2.0
PRODID:-//ChamberMaster//Event Calendar 2.0//EN
METHOD:PUBLISH
X-PUBLISHED-TTL:P3D
REFRESH-INTERVAL:P3D
CALSCALE:GREGORIAN
BEGIN:VEVENT
DTSTART:20250422T140000Z
DTEND:20250422T163000Z
X-MICROSOFT-CDO-ALLDAYEVENT:FALSE
SUMMARY:Scholarship Breakfast Connect - April 2025
DESCRIPTION:Student Scholarship Breakfast\nJoin us in celebrating our 2025 student scholarship recipients at our April Breakfast Connect! Over the years\, the Coeur d'Alene Regional Chamber has had the pleasure of supporting our next generation of leaders through the generous sponsorships of our business community.\n\nThis breakfast is a testament to the unwavering commitment of our community to empower and uplift our students as they pursue their educational dreams. We invite you to share in the joy and success of these talented individuals. Be a part of this inspiring morning\, where we come together to honor and uplift the promising students who represent the future of our community. Join us at the April Scholarship Breakfast as we celebrate the bright minds and boundless potential of our 2025 scholarship recipients!\n\n\n\nInterested in sponsoring a student scholarship?\n\nContact Ann Wilkey (ann@cdachamber.com)
X-ALT-DESC;FMTTYPE=text/html:<span style="color:#000000\;"><span style="font-size:18px\;"><span style="font-family:arial\;"><strong>Student Scholarship Breakfast</strong></span></span></span>\n<div style="color: rgb(55\, 65\, 81)\; font-size: 16px\; white-space-collapse: preserve\;"><span style="color:#000000\;"><span style="font-size:18px\;"><span style="font-family:arial\;">Join us in celebrating our 2025 student scholarship recipients at our April Breakfast Connect! Over the years\, the Coeur d&#39\;Alene Regional Chamber has had the pleasure of supporting our next generation of leaders through the generous sponsorships of our business community.<br />\nThis breakfast is a testament to the unwavering commitment of our community to empower and uplift our students as they pursue their educational dreams. We invite you to share in the joy and success of these talented individuals. Be a part of this inspiring morning\, where we come together to honor and uplift the promising students who represent the future of our community. Join us at the April Scholarship Breakfast as we celebrate the bright minds and boundless potential of our 2025 scholarship recipients!<br />\n<br />\n<strong>Interested in sponsoring a student scholarship?</strong><br />\nContact Ann Wilkey (ann@cdachamber.com)</span></span></span></div>\n
LOCATION:The Coeur d'Alene Resort Conference Rooms 115 S 2nd St\, Coeur d'Alene\, ID 83814
UID:e.843.32084
SEQUENCE:3
DTSTAMP:20260421T212719Z
URL:http://directory.cdachamber.com/events/details/scholarship-breakfast-connect-april-2025-32084
END:VEVENT

END:VCALENDAR
