BEGIN:VCALENDAR
VERSION:2.0
PRODID:-//ChamberMaster//Event Calendar 2.0//EN
METHOD:PUBLISH
X-PUBLISHED-TTL:P3D
REFRESH-INTERVAL:P3D
CALSCALE:GREGORIAN
BEGIN:VEVENT
DTSTART:20231201T000000Z
DTEND:20231201T003000Z
X-MICROSOFT-CDO-ALLDAYEVENT:FALSE
SUMMARY:Ribbon Cutting: The Lodge Assisted Living
DESCRIPTION:Please join us in welcoming The Lodge Assisted Living at their open house and ribbon cutting!
X-ALT-DESC;FMTTYPE=text/html:<p dir="ltr" style="line-height:1.7999999999999998\;text-align: center\;margin-top:0pt\;margin-bottom:0pt\;"><span id="docs-internal-guid-1d2244f9-7fff-7717-f012-4701dbc351c7"><span style="font-size: 13pt\; font-family: Verdana\, sans-serif\; color: rgb(0\, 0\, 0)\; background-color: transparent\; font-variant-numeric: normal\; font-variant-east-asian: normal\; font-variant-alternates: normal\; font-variant-position: normal\; vertical-align: baseline\; white-space-collapse: preserve\;">Please join us in welcoming </span><a href="http://lodgeliving.net/" style="text-decoration-line: none\;"><span style="font-size: 13pt\; font-family: Verdana\, sans-serif\; color: rgb(17\, 85\, 204)\; background-color: transparent\; font-variant-numeric: normal\; font-variant-east-asian: normal\; font-variant-alternates: normal\; font-variant-position: normal\; vertical-align: baseline\; white-space-collapse: preserve\;">The Lodge Assisted Living</span></a><span style="font-size: 13pt\; font-family: Verdana\, sans-serif\; color: rgb(0\, 0\, 0)\; background-color: transparent\; font-variant-numeric: normal\; font-variant-east-asian: normal\; font-variant-alternates: normal\; font-variant-position: normal\; vertical-align: baseline\; white-space-collapse: preserve\;"> at their open house and ribbon cutting!&nbsp\;</span></span></p>\n\n<div>&nbsp\;</div>\n
LOCATION:
UID:e.843.30131
SEQUENCE:3
DTSTAMP:20260423T034323Z
URL:http://directory.cdachamber.com/events/details/ribbon-cutting-the-lodge-assisted-living-30131
END:VEVENT

END:VCALENDAR
