BEGIN:VCALENDAR
VERSION:2.0
PRODID:-//ChamberMaster//Event Calendar 2.0//EN
METHOD:PUBLISH
X-PUBLISHED-TTL:P3D
REFRESH-INTERVAL:P3D
CALSCALE:GREGORIAN
BEGIN:VEVENT
DTSTART:20230607T220000Z
DTEND:20230607T223000Z
X-MICROSOFT-CDO-ALLDAYEVENT:FALSE
SUMMARY:Ribbon Cutting: Team Telomere
DESCRIPTION:Join us in welcoming Team Telomere to the Coeur d'Alene Regional Chamber family at their ribbon cutting this Wednesday. They are dedicated to the wellness and health of our community by providing accessible care\, dedicated research\, and effective treatment to those suffering from Telomere Biology Disorders.
X-ALT-DESC;FMTTYPE=text/html:<p class="p1" style="margin: 0px\; font-variant-numeric: normal\; font-variant-east-asian: normal\; font-variant-alternates: normal\; font-kerning: auto\; font-optical-sizing: auto\; font-feature-settings: normal\; font-variation-settings: normal\; font-stretch: normal\; line-height: normal\; font-family: &quot\;Helvetica Neue&quot\;\; color: rgb(0\, 0\, 0)\;"><span style="font-family:arial\;">Join us in welcoming&nbsp\;<a href="https://teamtelomere.org/"><span class="s1" style="color: rgb(220\, 161\, 13)\;">Team Telomere</span></a>&nbsp\;to the Coeur d&rsquo\;Alene Regional Chamber family at their ribbon cutting this Wednesday. They are dedicated to the wellness and health of our community by providing accessible care\, dedicated research\, and effective treatment to those suffering from Telomere Biology Disorders.</span></p>\n
LOCATION:
UID:e.843.28735
SEQUENCE:3
DTSTAMP:20260423T141223Z
URL:http://directory.cdachamber.com/events/details/ribbon-cutting-team-telomere-28735
END:VEVENT

END:VCALENDAR
