BEGIN:VCALENDAR
VERSION:2.0
PRODID:-//ChamberMaster//Event Calendar 2.0//EN
METHOD:PUBLISH
X-PUBLISHED-TTL:P3D
REFRESH-INTERVAL:P3D
CALSCALE:GREGORIAN
BEGIN:VEVENT
DTSTART:20230616T173000Z
DTEND:20230616T180000Z
X-MICROSOFT-CDO-ALLDAYEVENT:FALSE
SUMMARY:Ribbon Cutting: Pure Spa and Salon
DESCRIPTION:
X-ALT-DESC;FMTTYPE=text/html:
LOCATION:
UID:e.843.28738
SEQUENCE:3
DTSTAMP:20260423T123434Z
URL:http://directory.cdachamber.com/events/details/ribbon-cutting-pure-spa-and-salon-28738
END:VEVENT

END:VCALENDAR
