BEGIN:VCALENDAR
VERSION:2.0
PRODID:-//ChamberMaster//Event Calendar 2.0//EN
METHOD:PUBLISH
X-PUBLISHED-TTL:P3D
REFRESH-INTERVAL:P3D
CALSCALE:GREGORIAN
BEGIN:VEVENT
DTSTART:20230602T000000Z
DTEND:20230602T003000Z
X-MICROSOFT-CDO-ALLDAYEVENT:FALSE
SUMMARY:Ribbon Cutting: HomeTown Family Chiropractic
DESCRIPTION:Welcome to the Coeur d'Alene Regional Chamber family\, Hometown Family Chiropractic! Join us for their ribbon cutting and open house this week. Bring your kiddos and enjoy a bounce house and games at this exciting family friendly event.
X-ALT-DESC;FMTTYPE=text/html:<span style="color: rgb(0\, 0\, 0)\; font-family: Verdana\, Geneva\, sans-serif\; font-size: 16px\; text-align: center\; white-space: pre-wrap\;">Welcome to the Coeur d&rsquo\;Alene Regional Chamber family\, Hometown Family Chiropractic! Join us for their ribbon cutting and open house this week. Bring your kiddos and enjoy a bounce house and games at this exciting family friendly event. </span>
LOCATION:
UID:e.843.28734
SEQUENCE:3
DTSTAMP:20260423T142004Z
URL:http://directory.cdachamber.com/events/details/ribbon-cutting-hometown-family-chiropractic-28734
END:VEVENT

END:VCALENDAR
