BEGIN:VCALENDAR
VERSION:2.0
PRODID:-//ChamberMaster//Event Calendar 2.0//EN
METHOD:PUBLISH
X-PUBLISHED-TTL:P3D
REFRESH-INTERVAL:P3D
CALSCALE:GREGORIAN
BEGIN:VEVENT
DTSTART:20230727T220000Z
DTEND:20230727T220000Z
X-MICROSOFT-CDO-ALLDAYEVENT:FALSE
SUMMARY:Ribbon Cutting: Heaven on Earth Foot Reflexology and Massage
DESCRIPTION:Join us this week in welcoming Heaven on Earth Foot Reflexology and Massage to the Coeur d'Alene Regional Chamber family. Stop by for their ribbon cutting and open house.\n\n \n\n We hope to see you there!
X-ALT-DESC;FMTTYPE=text/html:<div style="text-size-adjust: 100%\; margin: 0px\; padding: 0px\; word-break: break-word\; color: rgb(0\, 0\, 0)\; font-family: &quot\;Helvetica Neue&quot\;\, Helvetica\, Arial\, Verdana\, sans-serif\; font-size: medium\; line-height: 1.5\; text-align: center\; white-space-collapse: preserve\;"><span style="font-family: Verdana\, Geneva\, sans-serif\;">Join us this week in welcoming Heaven on Earth Foot Reflexology and Massage to the Coeur d&rsquo\;Alene Regional Chamber family. Stop by for their ribbon cutting and open house.</span></div>\n\n<p style="text-size-adjust: 100%\; margin: 0px\; padding: 0px\; word-break: break-word\; color: rgb(0\, 0\, 0)\; font-family: &quot\;Helvetica Neue&quot\;\, Helvetica\, Arial\, Verdana\, sans-serif\; font-size: medium\; line-height: 1.5\; text-align: center\; white-space-collapse: preserve\;">&nbsp\;</p>\n\n<p class="last-child" style="text-size-adjust: 100%\; margin: 0px\; padding: 0px\; word-break: break-word\; color: rgb(0\, 0\, 0)\; font-family: &quot\;Helvetica Neue&quot\;\, Helvetica\, Arial\, Verdana\, sans-serif\; font-size: medium\; line-height: 1.5\; text-align: center\; direction: ltr\; white-space-collapse: preserve\;"><span style="font-family: Verdana\, Geneva\, sans-serif\;">&nbsp\;We hope to see you there!</span></p>\n
LOCATION:414 E. Coeur d'Alene Ave.\, Coeur d'Alene\, ID 83814
UID:e.843.29150
SEQUENCE:3
DTSTAMP:20260423T105626Z
URL:http://directory.cdachamber.com/events/details/ribbon-cutting-heaven-on-earth-foot-reflexology-and-massage-29150
END:VEVENT

END:VCALENDAR
