BEGIN:VCALENDAR
VERSION:2.0
PRODID:-//ChamberMaster//Event Calendar 2.0//EN
METHOD:PUBLISH
X-PUBLISHED-TTL:P3D
REFRESH-INTERVAL:P3D
CALSCALE:GREGORIAN
BEGIN:VEVENT
DTSTART:20230613T160000Z
DTEND:20230613T161500Z
X-MICROSOFT-CDO-ALLDAYEVENT:FALSE
SUMMARY:Ribbon Cutting: Connect Kootenai
DESCRIPTION:Join us in welcoming Connect Kootenai to the Coeur d'Alene Regional Chamber family. Connect Kootenai (formerly CDA 2030) is a nonprofit organization dedicated to making Coeur d'Alene a beautiful and prosperous place to live. Their ribbon cutting will take place immediately after the Upbeat Breakfast on Tuesday morning\, so make sure to stick around to celebrate this important member of our community.
X-ALT-DESC;FMTTYPE=text/html:<span style="color: rgb(0\, 0\, 0)\; font-family: Verdana\, Geneva\, sans-serif\; font-size: 16px\; text-align: center\; white-space-collapse: preserve\;">Join us in welcoming Connect Kootenai to the Coeur d&rsquo\;Alene Regional Chamber family. Connect Kootenai (formerly CDA 2030) is a nonprofit organization dedicated to making Coeur d&rsquo\;Alene a beautiful and prosperous place to live. Their ribbon cutting will take place immediately after the Upbeat Breakfast on Tuesday morning\, so make sure to stick around to celebrate this important member of our community. </span>
LOCATION:
UID:e.843.28759
SEQUENCE:3
DTSTAMP:20260423T123438Z
URL:http://directory.cdachamber.com/events/details/ribbon-cutting-connect-kootenai-28759
END:VEVENT

END:VCALENDAR
