BEGIN:VCALENDAR
VERSION:2.0
PRODID:-//ChamberMaster//Event Calendar 2.0//EN
METHOD:PUBLISH
X-PUBLISHED-TTL:P3D
REFRESH-INTERVAL:P3D
CALSCALE:GREGORIAN
BEGIN:VEVENT
DTSTART:20230517T213000Z
DTEND:20230517T220000Z
X-MICROSOFT-CDO-ALLDAYEVENT:FALSE
SUMMARY:Ribbon Cutting: Clearwater Summit Group\, Inc.
DESCRIPTION:Join us in welcoming Clearwater Summit Group\, Inc. to the Coeur d'Alene Regional Chamber at their ribbon cutting on May 17! They have been serving the North Idaho and Spokane communities with their landscaping artistry for over 40 years and we are honored to have them as part of our growing family.
X-ALT-DESC;FMTTYPE=text/html:<span style="color: rgb(0\, 0\, 0)\; font-family: Catamaran\, sans-serif\; font-size: 16px\; text-align: center\; white-space: pre-wrap\;">Join us in welcoming Clearwater Summit Group\, Inc. to the Coeur d&rsquo\;Alene Regional Chamber at their ribbon cutting on May 17! They have been serving the North Idaho and Spokane communities with their landscaping artistry for over 40 years and we are honored to have them as part of our growing family. </span>
LOCATION:
UID:e.843.28699
SEQUENCE:3
DTSTAMP:20260423T150148Z
URL:http://directory.cdachamber.com/events/details/ribbon-cutting-clearwater-summit-group-inc-28699
END:VEVENT

END:VCALENDAR
