BEGIN:VCALENDAR
VERSION:2.0
PRODID:-//ChamberMaster//Event Calendar 2.0//EN
METHOD:PUBLISH
X-PUBLISHED-TTL:P3D
REFRESH-INTERVAL:P3D
CALSCALE:GREGORIAN
BEGIN:VEVENT
DTSTART:20250712T160000Z
DTEND:20250712T180000Z
X-MICROSOFT-CDO-ALLDAYEVENT:FALSE
SUMMARY:Osprey Cruise on Lake Coeur d'Alene 2025
DESCRIPTION:The Annual CDA Regional Chamber's Natural Resources Committee-sponsored Osprey Cruise is Saturday\, July 12th from 9:00 - 11:00 AM. Boarding starts at 8:30 am. This annual event is a favorite of young and old participants. Limited to 150 persons\, the wildlife viewing is guaranteed to be up close and personal with not only the area's iconic migratory fish-eating hawk\, but often resident eagles\, cormorants\, geese\, ducks\, and more.  Wildlife experts and habitat specialists provide narrative explanations of the hawks' life cycle and nesting and roosting habits and characteristics\, using actual mounts for people to see and touch\, from the birds\, to eggs of different species\, talons\, and more.  Other environmental authorities\, authors\, and historians participate\, including from the Tribe and local\, state\, and federal over 65 agencies.  The cruise is courtesy of Lake Coeur d'Alene Cruises\, Hagadone Corp.\n\n\n\nBoarding begins at 8:30 a.m. Boarding will be on the East Side of the Resort (close to Tubbs Hill) on the Boardwalk Marina Dock. The cruise will leave promptly at 9:00 a.m. and return by 11:00 a.m. Enjoy the cruise with your morning coffee\, a snack or breakfast with the no-host service. \n\n \nDon't forget to bring your camera & binoculars!
X-ALT-DESC;FMTTYPE=text/html:<span style="color:#000000\;"><span style="font-size:18px\;"><span style="font-family:arial\;">The Annual CDA Regional Chamber&#39\;s Natural Resources Committee-sponsored Osprey Cruise is Saturday\, July 12th from 9:00 - 11:00 AM. Boarding starts at 8:30 am. This annual event is a favorite of young and old participants. Limited to 150 persons\, the wildlife viewing is guaranteed to be up close and personal with not only the area&#39\;s iconic migratory fish-eating hawk\, but often resident eagles\, cormorants\, geese\, ducks\, and more.&nbsp\; Wildlife experts and habitat specialists provide narrative explanations of the hawks&#39\; life cycle and nesting and roosting habits and characteristics\, using actual mounts for people to see and touch\, from the birds\, to eggs of different species\, talons\, and more.&nbsp\; Other environmental authorities\, authors\, and historians participate\, including from the Tribe and local\, state\, and federal over 65 agencies.&nbsp\; The cruise is courtesy of Lake Coeur d&#39\;Alene Cruises\, Hagadone Corp.<br />\n<br />\nBoarding begins at 8:30 a.m. Boarding will be&nbsp\;on the East Side of the Resort (close to Tubbs Hill)&nbsp\;on the Boardwalk Marina Dock. The cruise will leave promptly at 9:00 a.m. and return by 11:00 a.m. Enjoy the cruise with your morning coffee\, a snack or breakfast with the no-host service.&nbsp\;</span></span></span><br />\n&nbsp\;\n<p style="color: rgb(128\, 0\, 0)\; margin-top: 0px\; margin-bottom: 0px\;"><span style="color:#000000\;"><span style="font-size:18px\;"><span style="font-family:arial\;">Don&#39\;t forget to bring your camera &amp\; binoculars!</span></span></span></p>\n
LOCATION:
UID:e.843.32504
SEQUENCE:3
DTSTAMP:20260421T155319Z
URL:http://directory.cdachamber.com/events/details/osprey-cruise-on-lake-coeur-d-alene-2025-32504
END:VEVENT

END:VCALENDAR
