BEGIN:VCALENDAR
VERSION:2.0
PRODID:-//ChamberMaster//Event Calendar 2.0//EN
METHOD:PUBLISH
X-PUBLISHED-TTL:P3D
REFRESH-INTERVAL:P3D
CALSCALE:GREGORIAN
BEGIN:VEVENT
DTSTART:20230715T153000Z
DTEND:20230715T180000Z
X-MICROSOFT-CDO-ALLDAYEVENT:FALSE
SUMMARY:Osprey Cruise on Lake Coeur d'Alene 2023
DESCRIPTION:Osprey are magnificent to see flying over Lake Coeur d'Alene! The Chamber's Natural Resources Committee invites the community to participate in this annual cruise on Lake Coeur d'Alene to view the Osprey and their nests as representatives from the Raptor Chapter\, Idaho Fish & Game\, and The Nature Conservancy provide commentary. Trained biologists will also once again attempt to band a nestling viewable either from the top deck or at the lower level via TV monitor. The cruise is an opportunity for you to see the osprey up close and learn more about their importance to the area's ecosystem.\n\n\n\nBoarding begins at 8:30 a.m. Boarding will be on the East Side of the Resort (close to Tubbs Hill) on the Boardwalk Marina Dock. The cruise will leave promptly at 9:00 a.m. and return by 11:00 a.m. Enjoy the cruise with your morning coffee\, a snack or breakfast with the no-host service. \n\n \nDon't forget to bring your camera!\n\n \nFor more information and to reserve your place please contact Briana Francis at briana@cdachamber.com
X-ALT-DESC;FMTTYPE=text/html:<span style="color: rgb(76\, 76\, 76)\;">Osprey are magnificent to see flying over Lake Coeur d&#39\;Alene! The Chamber&#39\;s Natural Resources Committee invites the community to participate in this annual cruise on Lake Coeur d&#39\;Alene to view the Osprey and their nests as representatives from the Raptor Chapter\, Idaho Fish &amp\; Game\, and The Nature Conservancy provide commentary. Trained biologists will also once again attempt to band a nestling viewable either from the top deck or at the lower level via TV monitor. The cruise is an opportunity for you to see the osprey up close and learn more about their importance to the area&#39\;s ecosystem.</span><br />\n<br />\n<span style="color: rgb(76\, 76\, 76)\;">Boarding begins at 8:30 a.m. Boarding will be</span>&nbsp\;on the East Side of the Resort (close to Tubbs Hill)&nbsp\;<span style="color: rgb(76\, 76\, 76)\;">on the Boardwalk Marina Dock. The cruise will leave promptly at 9:00 a.m. and return by 11:00 a.m. Enjoy the cruise with your morning coffee\, a snack or breakfast with the no-host service.&nbsp\;</span><br />\n&nbsp\;\n<p style="color: rgb(128\, 0\, 0)\; margin-top: 0px\; margin-bottom: 0px\;"><span style="color: rgb(76\, 76\, 76)\;">Don&#39\;t forget to bring your camera!</span></p>\n\n<p style="color: rgb(128\, 0\, 0)\; margin-top: 0px\; margin-bottom: 0px\;"><span style="color: rgb(76\, 76\, 76)\;">&nbsp\;</span></p>\n<em><span style="color: rgb(76\, 76\, 76)\;">For more information and to reserve your place please contact Briana Francis at <a href="mailto:connect@cdachamber.com">briana@cdachamber.com&nbsp\;</a></span></em><br />\n&nbsp\;
LOCATION:
UID:e.843.28487
SEQUENCE:3
DTSTAMP:20260423T105837Z
URL:http://directory.cdachamber.com/events/details/osprey-cruise-on-lake-coeur-d-alene-2023-28487
END:VEVENT

END:VCALENDAR
