BEGIN:VCALENDAR
VERSION:2.0
PRODID:-//ChamberMaster//Event Calendar 2.0//EN
METHOD:PUBLISH
X-PUBLISHED-TTL:P3D
REFRESH-INTERVAL:P3D
CALSCALE:GREGORIAN
BEGIN:VEVENT
DTSTART:20240501T230000Z
DTEND:20240502T020000Z
X-MICROSOFT-CDO-ALLDAYEVENT:FALSE
SUMMARY:North Idaho Business Expo and Career Fair 2024
DESCRIPTION:JOIN US for the first-ever joint business expo and career fair\, brought to you by the CDA Regional Chamber and the Post Falls Chamber! We are thrilled to better serve our collective members by joining forces and eliminating the need for two separate fairs. \n\n\n\nOne event\, endless opportunities! Whether you're a consumer or a job seeker\, this dynamic event connects you with diverse businesses in North Idaho. Engage with local business exhibitors\, explore innovations\, and build valuable connections. For job seekers\, it's a direct path to local job openings and gets you one step closer to your dream career!\n\n\n\nDon't miss out! Mark your calendars and step into a future of possibilities where connections lead to success.
X-ALT-DESC;FMTTYPE=text/html:<span style="color:#000000\;"><span style="font-size:18px\;"><span style="font-family:arial\;">JOIN US for the first-ever joint business expo and career fair\, brought to you by the CDA Regional Chamber and the Post Falls Chamber! We are thrilled to better serve our collective members by joining forces and eliminating the need for two separate fairs.&nbsp\;<br />\n<br />\nOne event\, endless opportunities! Whether you&#39\;re a consumer or a job seeker\, this dynamic event connects you with diverse businesses in North Idaho. Engage with local business exhibitors\, explore innovations\, and build valuable connections. For job seekers\, it&#39\;s a direct path to local job openings and gets you one step closer to your dream career!<br />\n<br />\nDon&#39\;t miss out! Mark your calendars and step into a future of possibilities where connections lead to success.&nbsp\;</span></span></span>
LOCATION:Kootenai County Fairgrounds
UID:e.843.30412
SEQUENCE:3
DTSTAMP:20260422T165611Z
URL:http://directory.cdachamber.com/events/details/north-idaho-business-expo-and-career-fair-2024-30412
END:VEVENT

END:VCALENDAR
