BEGIN:VCALENDAR
VERSION:2.0
PRODID:-//ChamberMaster//Event Calendar 2.0//EN
METHOD:PUBLISH
X-PUBLISHED-TTL:P3D
REFRESH-INTERVAL:P3D
CALSCALE:GREGORIAN
BEGIN:VEVENT
DTSTART:20240926T000000Z
DTEND:20240926T013000Z
X-MICROSOFT-CDO-ALLDAYEVENT:FALSE
SUMMARY:New Educators Reception 2024
DESCRIPTION:Dear New Educator\,\n\nOn behalf of the Education Committee of the CDA Regional Chamber\, we invite you to attend this year's New Educator Reception! This event is an incredible opportunity for new educators to build community and get to know other new educators in our region. We want to welcome you and express our business community's continued support for education in our region. \n\nAttendees will enjoy complimentary refreshments for the evening.
X-ALT-DESC;FMTTYPE=text/html:<p class="_04xlpA direction-ltr align-start para-style-body" style="color: rgb(0\, 0\, 0)\; font-family: &quot\;YADLjHWw7fA 0&quot\;\, _fb_\, auto\; --font-size:14.6674px\; --line-height:1.21\; letter-spacing: 0.05em\; line-height: 17px\;"><span style="font-size:18px\;"><strong><span style="font-family:arial\;"><span class="JsGRdQ">Dear New Educator\,</span></span></strong></span></p>\n\n<p class="_04xlpA direction-ltr align-start para-style-body" style="color: rgb(0\, 0\, 0)\; font-family: &quot\;YADLjI9qxTA 0&quot\;\, _fb_\, auto\; --font-size:14.6674px\; --line-height:1.21\; letter-spacing: 0.05em\; line-height: 17px\;"><span style="font-size:18px\;"><span style="font-family:arial\;"><span class="JsGRdQ">On behalf of the Education Committee of the CDA Regional Chamber\, we invite you to attend this year&#39\;s New Educator Reception! This event is an incredible opportunity for new educators to build community and get to know other new educators in our region. We want to welcome you&nbsp\;and express our business community&#39\;s continued support for education in our region.</span><span class="JsGRdQ white-space-prewrap"> </span></span></span></p>\n\n<p class="_04xlpA direction-ltr align-start para-style-body" style="color: rgb(0\, 0\, 0)\; font-family: &quot\;YADLjI9qxTA 0&quot\;\, _fb_\, auto\; --font-size:14.6674px\; --line-height:1.21\; letter-spacing: 0.05em\; line-height: 17px\;"><span style="font-size:18px\;"><span style="font-family:arial\;"><span class="JsGRdQ">Attendees will enjoy complimentary refreshments for the evening.</span></span></span></p>\n
LOCATION:North Idaho College\, DeArmond Building
UID:e.843.30410
SEQUENCE:3
DTSTAMP:20260422T100623Z
URL:http://directory.cdachamber.com/events/details/new-educators-reception-2024-30410
END:VEVENT

END:VCALENDAR
