BEGIN:VCALENDAR
VERSION:2.0
PRODID:-//ChamberMaster//Event Calendar 2.0//EN
METHOD:PUBLISH
X-PUBLISHED-TTL:P3D
REFRESH-INTERVAL:P3D
CALSCALE:GREGORIAN
BEGIN:VEVENT
DTSTART:20231024T150000Z
DTEND:20231024T180000Z
X-MICROSOFT-CDO-ALLDAYEVENT:FALSE
SUMMARY:Navigating the Growth of Kootenai County - October 2023
DESCRIPTION:Does the real estate market have you scratching your head? No worries\, we've got you covered! Join us for a high-impact morning\, filled with informative perspectives delivered by an all-star lineup of experts in the Kootenai County area including:\n\n\n	Jennifer Smock\, Windermere/CDA Realty\n	Jimmy McAndrew\, Mountain West Bank\n	Maggie Lyons\, PAHA\n	Hilary Patterson\, City of Coeur d'Alene\n	Tyrel Stevenson\, CDA Tribe\n\n\nIn partnership with Coeur d'Alene Regional REALTORS\, we are proud to present Navigating the Growth of Kootenai County.
X-ALT-DESC;FMTTYPE=text/html:<p><span style="color:black\;"><span style="font-size:11.5pt\;">Does the real estate market have you scratching your head? No worries\, we&#39\;ve got you covered! Join us for a high-impact morning\, filled with informative perspectives delivered by an all-star lineup of experts in the Kootenai County area including:</span></span></p>\n\n<ul>\n	<li style="color:black\;"><span style="font-size: 15.3333px\;">Jennifer Smock\, Windermere/CDA Realty</span></li>\n	<li style="color:black\;"><span style="font-size: 15.3333px\;">Jimmy McAndrew\, Mountain West Bank</span></li>\n	<li style="color:black\;"><span style="font-size: 15.3333px\;">Maggie Lyons\, PAHA</span></li>\n	<li style="color:black\;"><span style="font-size: 15.3333px\;">Hilary Patterson\, City of Coeur d&#39\;Alene</span></li>\n	<li style="color:black\;"><span style="font-size: 15.3333px\;">Tyrel Stevenson\, CDA Tribe</span></li>\n</ul>\n\n<p><font color="#000000"><span style="font-size: 11.5pt\;">In partnership with Coeur </span><span style="font-size: 15.3333px\;">d&#39\;Alene</span><span style="font-size: 11.5pt\;">&nbsp\;Regional REALTORS\, we are proud to present Navigating the Growth of Kootenai County.</span></font><br />\n&nbsp\;</p>\n
LOCATION:Best Western Plus Coeur d'Alene Inn 506 W. Appleway Ave. Coeur d'Alene\, ID 83814
UID:e.843.27901
SEQUENCE:3
DTSTAMP:20260423T055027Z
URL:http://directory.cdachamber.com/events/details/navigating-the-growth-of-kootenai-county-october-2023-27901
END:VEVENT

END:VCALENDAR
