BEGIN:VCALENDAR
VERSION:2.0
PRODID:-//ChamberMaster//Event Calendar 2.0//EN
METHOD:PUBLISH
X-PUBLISHED-TTL:P3D
REFRESH-INTERVAL:P3D
CALSCALE:GREGORIAN
BEGIN:VEVENT
DTSTART:20221021T150000Z
DTEND:20221021T180000Z
X-MICROSOFT-CDO-ALLDAYEVENT:FALSE
SUMMARY:Navigating the Growth of Kootenai County 2022
DESCRIPTION:Does the real estate market have you scratching your head? No worries\, we've got you covered! Join us for a high-impact morning\, filled with informative perspectives delivered by an all-star lineup of experts in the Kootenai County area including:\n\n\n	Lindsay Allen\, President\, Coeur d'Alene Regional REALTORS   Emcee\n	Jennifer Smock\, Windermere Coeur d'Alene Realty\n	 Gynii Gilliam\, Coeur d'Alene Area Economic Development Corporation\n	Maggie Lyons\, Panhandle Affordable Housing Alliance\n	Jimmy McAndrews\, Mountain West Bank\n\n\nIn partnership with Coeur d'Alene Regional REALTORS\, we are proud to present Navigating the Growth of Kootenai County.
X-ALT-DESC;FMTTYPE=text/html:<h3><span style="color:black\;"><span style="font-size:11.5pt\;">Does the real estate market have you scratching your head? No worries\, we&rsquo\;ve got you covered! Join us for a high-impact morning\, filled with informative perspectives delivered by an all-star lineup of experts in the Kootenai County area including:</span></span></h3>\n\n<ul>\n	<li style="color:black\;"><span style="font-size:11.5pt\;">Lindsay Allen\, President\, Coeur d&rsquo\;Alene Regional REALTORS &ndash\; Emcee</span></li>\n	<li style="color:black\;"><span style="font-size:11.5pt\;">Jennifer Smock\, Windermere Coeur d&rsquo\;Alene Realty</span></li>\n	<li style="color:black\;"><span style="font-size:11.5pt\;">&#8203\;Gynii Gilliam\, Coeur d&#39\;Alene Area Economic Development Corporation</span></li>\n	<li style="color:black\;"><span style="font-size:11.5pt\;">Maggie Lyons\,&nbsp\;Panhandle Affordable Housing Alliance</span></li>\n	<li style="color:black\;"><span style="font-size:11.5pt\;">Jimmy McAndrews\, Mountain West Bank</span></li>\n</ul>\n\n<p><span style="color:black\;"><span style="font-size:11.5pt\;">In partnership with Coeur d&rsquo\;Alene Regional REALTORS\, we are proud to present Navigating the Growth of Kootenai County.</span></span><br />\n&nbsp\;</p>\n
LOCATION:Best Western Plus Coeur d'Alene Inn
UID:e.843.23899
SEQUENCE:3
DTSTAMP:20260424T044810Z
URL:http://directory.cdachamber.com/events/details/navigating-the-growth-of-kootenai-county-2022-23899
END:VEVENT

END:VCALENDAR
