BEGIN:VCALENDAR
VERSION:2.0
PRODID:-//ChamberMaster//Event Calendar 2.0//EN
METHOD:PUBLISH
X-PUBLISHED-TTL:P3D
REFRESH-INTERVAL:P3D
CALSCALE:GREGORIAN
BEGIN:VEVENT
DTSTART:20230927T183000Z
DTEND:20230927T193000Z
X-MICROSOFT-CDO-ALLDAYEVENT:FALSE
SUMMARY:Membership Outreach Committee
DESCRIPTION:________________________________________________________________________\n\nM E M B E R S H I P  O U T R E A C H  C O M M I T T E E\n\nCommittee Chair: Jacob Bentley\n\n\n\nThe Membership Outreach Committee is made up of members who are passionate about making powerful connections through the chamber and who are excited about helping others to do the same. By assisting with new member orientations\, developing membership retention strategies\, and critiquing membership communications the Membership Outreach Committee helps gain new members and build continued value for current members.\n\n\n\nInterested in joining our committee? Contact Kerri Jensen.\n\nkerri@cdachamber.com
X-ALT-DESC;FMTTYPE=text/html:<span style="font-size:16px\;"><span style="font-family:verdana\;"><span style="color:#085596\;"><span style="font-size:20px\;"><strong><span style="font-family:tahoma\;">________________________________________________________________________<br />\nM E M B E R S H I P&nbsp\; O U T R E A C H&nbsp\; C O M M I T T E E</span></strong></span><br />\n<span style="font-size:18px\;"><strong><em><span style="font-family:times new roman\;">Committee Chair: Jacob Bentley</span></em></strong></span></span><br />\n<br />\nThe Membership Outreach Committee is made up of members who are passionate about making powerful connections through the chamber and who are excited about helping others to do the same. By assisting<span style="color: rgb(68\, 68\, 68)\;">&nbsp\;with new member orientations\, developing membership retention strategies\, and critiquing membership communications the Membership Outreach Committee helps gain new members and build continued value for current members.</span><br />\n<br />\nInterested in joining our committee? Contact Kerri Jensen.<br />\n<a href="http://linda@cdachamber.com"><span style="color:#085596\;">kerri@cdachamber.com</span></a></span></span><br />\n<br />\n&nbsp\;
LOCATION:CDA Regional Chamber - Large Conference Room
UID:e.843.23926
SEQUENCE:3
DTSTAMP:20260423T090823Z
URL:http://directory.cdachamber.com/events/details/membership-outreach-committee-09-20-2023-23926
END:VEVENT

END:VCALENDAR
