BEGIN:VCALENDAR
VERSION:2.0
PRODID:-//ChamberMaster//Event Calendar 2.0//EN
METHOD:PUBLISH
X-PUBLISHED-TTL:P3D
REFRESH-INTERVAL:P3D
CALSCALE:GREGORIAN
BEGIN:VEVENT
DTSTART:20250320T220000Z
DTEND:20250321T003000Z
X-MICROSOFT-CDO-ALLDAYEVENT:FALSE
SUMMARY:Member Mixer: March Madness - March 2025
DESCRIPTION:MEMBER MIXER: MARCH MADNESS 2025\n\nGet ready for an unforgettable afternoon at our March Madness themed Member Mixer! Join us for a lively evening filled with great food\, drinks\, and all the action of the NCAA tournament. With all five TVs tuned to the March Madness games\, you?ll be at the heart of the excitement\, ensuring you never miss a buzzer-beater.\n\nWe?re also excited to spotlight our newest Chamber members\, giving them the chance to introduce themselves and build valuable connections within our community. Whether you're here to cheer on your team or network with fellow business professionals\, this event offers the perfect mix of fun and opportunity.\n\n\n\nADD-ON OPPORTUNITY!\n\nBefore the event\, we invite you to a FREE 1-hour presentation on how to maximize your membership! This informative session will take place at the CDA Regional Chamber in the Large Conference Room from 1:45 ? 2:45 PM. You'll gain valuable insights into your membership and discover the best ways to utilize your benefits to their fullest potential.\n\nImmediately following the session\, we will kick off our Member Mixer\, providing a great opportunity to network and connect with fellow members. If you haven?t already registered but would like to attend the Mixer\, you can join us for just $25. We look forward to seeing you there!
X-ALT-DESC;FMTTYPE=text/html:<p data-end="403" data-start="95"><span style="color:#000000\;"><span style="font-size:18px\;"><span style="font-family:arial\;"><strong>MEMBER MIXER: MARCH MADNESS 2025</strong><br />\nGet ready for an unforgettable afternoon at our March Madness themed Member Mixer! Join us for a lively evening filled with great food\, drinks\, and all the action of the NCAA tournament. With all five TVs tuned to the March Madness games\, you?ll be at the heart of the excitement\, ensuring you never miss a buzzer-beater.</span></span></span></p>\n\n<p data-end="403" data-start="95"><span style="color:#000000\;"><span style="font-size:18px\;"><span style="font-family:arial\;">We?re also excited to spotlight our newest Chamber members\, giving them the chance to introduce themselves and build valuable connections within our community. Whether you&#39\;re here to cheer on your team or network with fellow business professionals\, this event offers the perfect mix of fun and opportunity.<br />\n<br />\n<strong>ADD-ON OPPORTUNITY!</strong></span></span></span><br />\n<span style="color:#000000\;"><span style="font-size:18px\;"><span style="font-family:arial\;">Before the event\, we invite you to a <strong data-end="45" data-start="37">FREE</strong> 1-hour presentation on how to maximize your membership! This informative session will take place at the <strong data-end="203" data-start="150">CDA Regional Chamber in the Large Conference Room</strong> from <strong data-end="227" data-start="209">1:45 ? 2:45 PM</strong>. You&#39\;ll gain valuable insights into your membership and discover the best ways to utilize your benefits to their fullest potential.</span></span></span></p>\n\n<p data-end="651" data-is-last-node="" data-is-only-node="" data-start="363"><span style="color:#000000\;"><span style="font-size:18px\;"><span style="font-family:arial\;">Immediately following the session\, we will kick off our <strong data-end="435" data-start="419">Member Mixer</strong>\, providing a great opportunity to network and connect with fellow members. If you haven?t already registered but would like to attend the Mixer\, you can join us for just <strong data-end="613" data-start="606">$25</strong>. We look forward to seeing you there!</span></span></span></p>\n
LOCATION:
UID:e.843.32139
SEQUENCE:3
DTSTAMP:20260421T231047Z
URL:http://directory.cdachamber.com/events/details/member-mixer-march-madness-march-2025-32139
END:VEVENT

END:VCALENDAR
