BEGIN:VCALENDAR
VERSION:2.0
PRODID:-//ChamberMaster//Event Calendar 2.0//EN
METHOD:PUBLISH
X-PUBLISHED-TTL:P3D
REFRESH-INTERVAL:P3D
CALSCALE:GREGORIAN
BEGIN:VEVENT
DTSTART:20240319T180000Z
DTEND:20240319T200000Z
X-MICROSOFT-CDO-ALLDAYEVENT:FALSE
SUMMARY:Mayor Jim Hammond Address 2024
DESCRIPTION:Step into an afternoon of inspiration and community engagement at the Mayoral Address featuring our great leader\, Mayor Jim Hammond. Join us for an informative session as Mayor Hammond discusses his vision\, unveils strategic initiatives\, and outlines the roadmap for our beloved city's future. This event provides a unique opportunity to connect with fellow residents\, local leaders\, and businesses as we collectively envision and contribute to the growth and prosperity of Coeur d'Alene.\n\nBe part of this impactful gathering and register today!
X-ALT-DESC;FMTTYPE=text/html:<span style="font-size:16px\;"><span style="font-family:arial\;"><span style="color:#000000\;">Step into an afternoon of inspiration and community engagement at the Mayoral Address featuring our great leader\, Mayor Jim Hammond. Join us for an informative session as Mayor Hammond discusses his vision\, unveils strategic initiatives\, and outlines the roadmap for our beloved city&#39\;s future. This event provides a unique opportunity to connect with fellow residents\, local leaders\, and businesses as we collectively envision and contribute to the growth and prosperity of Coeur d&#39\;Alene.<br />\nBe part of this impactful gathering and register today!&nbsp\;</span></span></span>
LOCATION:The CDA Resort Conference Rooms
UID:e.843.30147
SEQUENCE:3
DTSTAMP:20260422T200457Z
URL:http://directory.cdachamber.com/events/details/mayor-jim-hammond-address-2024-30147
END:VEVENT

END:VCALENDAR
