BEGIN:VCALENDAR
VERSION:2.0
PRODID:-//ChamberMaster//Event Calendar 2.0//EN
METHOD:PUBLISH
X-PUBLISHED-TTL:P3D
REFRESH-INTERVAL:P3D
CALSCALE:GREGORIAN
BEGIN:VEVENT
DTSTART:20230426T180000Z
DTEND:20230426T200000Z
X-MICROSOFT-CDO-ALLDAYEVENT:FALSE
SUMMARY:Mayor Jim Hammond Address 2023
DESCRIPTION:Don't miss out on this opportunity to enjoy lunch with the community of Coeur d'Alene and hear from our city's leader. We are grateful to Mayor Jim Hammond for opening a civic dialogue with the people of Coeur d'Alene as he shares his plans for our region. Come early and network with the local business community before we take a look forward at what's next for our city. We hope to see you there!
X-ALT-DESC;FMTTYPE=text/html:<span style="color: rgb(0\, 0\, 0)\; font-family: Calibri\, sans-serif\; font-size: 15px\; text-align: center\;">Don&#39\;t miss out on this opportunity to enjoy lunch with the community of Coeur d&#39\;Alene and hear from our city&#39\;s leader. We are grateful to Mayor Jim Hammond for opening a civic dialogue with the people of Coeur d&#39\;Alene as he shares his plans for our region. Come early and network with the local business community before we take a look forward at what&#39\;s next for our city. We hope to see you there!&nbsp\;</span>
LOCATION:LOCATION CHANGE TO: The Hagadone Event Center 900 S. Floating Green Drive\, Coeur d'Alene\, ID 83814
UID:e.843.27966
SEQUENCE:3
DTSTAMP:20260423T162140Z
URL:http://directory.cdachamber.com/events/details/mayor-jim-hammond-address-2023-27966
END:VEVENT

END:VCALENDAR
