BEGIN:VCALENDAR
VERSION:2.0
PRODID:-//ChamberMaster//Event Calendar 2.0//EN
METHOD:PUBLISH
X-PUBLISHED-TTL:P3D
REFRESH-INTERVAL:P3D
CALSCALE:GREGORIAN
BEGIN:VEVENT
DTSTART:20231020T143000Z
DTEND:20231020T160000Z
X-MICROSOFT-CDO-ALLDAYEVENT:FALSE
SUMMARY:Legislative Breakfast\, hosted by the Joint Public Policy Committee
DESCRIPTION:Register for this event through the Post Falls Chamber\n\nBreakfast with our Legislators | Post Falls Chamber of Commerce
X-ALT-DESC;FMTTYPE=text/html:Register for this event through the Post Falls Chamber<br />\n<a href="https://member.postfallschamber.org/events/details/breakfast-with-our-legislators-32522?_gl=1*169pww0*_ga*MTM3MzA3ODA0NC4xNjkyOTg2MjQ1*_ga_ZFYF70HHTT*MTY5NTkzNzYzNC40LjEuMTY5NTkzNzc5Ny4xMy4wLjA.&amp\;_ga=2.268386894.1506204467.1695937635-1373078044.1692986245">Breakfast with our Legislators | Post Falls Chamber of Commerce</a>
LOCATION:
UID:e.843.29737
SEQUENCE:3
DTSTAMP:20260423T070939Z
URL:http://directory.cdachamber.com/events/details/legislative-breakfast-hosted-by-the-joint-public-policy-committee-29737
END:VEVENT

END:VCALENDAR
