BEGIN:VCALENDAR
VERSION:2.0
PRODID:-//ChamberMaster//Event Calendar 2.0//EN
METHOD:PUBLISH
X-PUBLISHED-TTL:P3D
REFRESH-INTERVAL:P3D
CALSCALE:GREGORIAN
BEGIN:VEVENT
DTSTART:20240120T020000Z
DTEND:20240120T060000Z
X-MICROSOFT-CDO-ALLDAYEVENT:FALSE
SUMMARY:Leadership Coeur d'Alene All Class Reunion
DESCRIPTION:We cordially invite you to the Leadership Coeur d'Alene All Class Reunion!\n\n \n\nWe've curated a delightful evening featuring a delicious taco bar\, refreshing drinks\, and live music to guarantee a memorable and enjoyable experience for all. It's the perfect opportunity to reconnect with old friends and reminisce about the cherished memories from your time in Leadership Coeur d'Alene.\n\n \n\nGather your classmates\, catch up with old friends\, and prepare to celebrate the decades of community leaders who have been part of Leadership Coeur d'Alene. Mark your calendar\, and together\, let's make this reunion an unforgettable experience!
X-ALT-DESC;FMTTYPE=text/html:<span style="font-family:verdana\,sans-serif\;"><span style="font-size:13.0pt\;">We cordially invite you to the&nbsp\;<strong>Leadership Coeur d&#39\;Alene All Class Reunion</strong>!</span></span><br />\n&nbsp\;<br />\n<span style="font-family:verdana\,sans-serif\;"><span style="font-size:13.0pt\;">We&#39\;ve curated a delightful evening featuring a delicious taco bar\, refreshing drinks\, and live music to guarantee a memorable and enjoyable experience for all. It&#39\;s the perfect opportunity to reconnect with old friends and reminisce about the cherished memories from your time in Leadership Coeur d&#39\;Alene.</span></span><br />\n&nbsp\;<br />\n<span style="font-family:verdana\,sans-serif\;"><span style="font-size:13.0pt\;">Gather your classmates\, catch up with old friends\, and prepare to celebrate the decades of community leaders who have been part of Leadership Coeur d&#39\;Alene. Mark your calendar\, and together\, let&#39\;s make this reunion an unforgettable experience!</span></span>
LOCATION:Eagles Coeur d'Alene 209 Sherman Ave.\, Coeur d'Alene\, ID 83814
UID:e.843.30123
SEQUENCE:3
DTSTAMP:20260422T235942Z
URL:http://directory.cdachamber.com/events/details/leadership-coeur-d-alene-all-class-reunion-30123
END:VEVENT

END:VCALENDAR
