BEGIN:VCALENDAR
VERSION:2.0
PRODID:-//ChamberMaster//Event Calendar 2.0//EN
METHOD:PUBLISH
X-PUBLISHED-TTL:P3D
REFRESH-INTERVAL:P3D
CALSCALE:GREGORIAN
BEGIN:VEVENT
DTSTART:20221209T013000Z
DTEND:20221209T030000Z
X-MICROSOFT-CDO-ALLDAYEVENT:FALSE
SUMMARY:Kootenai Health 501(c)(3) Public Information Session
DESCRIPTION:The board of trustees of Kootenai Health\, the largest employer in our region\, is considering transitioning to a 501(c)(3).  As healthcare is one of the top priorities in our community\, it is important to provide visibility to the public on this change and the potential impact in our area.\n\n\n\nThe joint Public Policy Committee\, comprised of all four Chambers of Commerce in Kootenai County\, is proud to present a public information session for Kootenai Health. The purpose of this session is for the leadership of Kootenai Health to provide an overview of this potential move to 501(c)(3) and its impact on our region.  If you have any questions for the KH leadership team\, please submit them via email to connect@cdachamber.com by Friday\, December 2\, 2022.
X-ALT-DESC;FMTTYPE=text/html:The board of trustees of Kootenai Health\, the largest employer in our region\, is considering transitioning to a 501(c)(3).&nbsp\; As healthcare is one of the top priorities in our community\, it is important to provide visibility to the public on this change and the potential impact in our area.<br />\n<br />\nThe joint Public Policy Committee\, comprised of all four Chambers of Commerce in Kootenai County\, is proud to present a public information session for Kootenai Health. The purpose of this session is for the leadership of Kootenai Health to provide an overview of this potential move to 501(c)(3) and its impact on our region.&nbsp\; If you have any questions for the KH leadership team\, please submit them via email to <strong><span style="color:#0000FF\;">connect@cdachamber.com</span></strong> by Friday\, December 2\, 2022.
LOCATION:Best Western Plus Coeur d'Alene Inn
UID:e.843.27848
SEQUENCE:3
DTSTAMP:20260423T235757Z
URL:http://directory.cdachamber.com/events/details/kootenai-health-501-c-3-public-information-session-27848
END:VEVENT

END:VCALENDAR
