BEGIN:VCALENDAR
VERSION:2.0
PRODID:-//ChamberMaster//Event Calendar 2.0//EN
METHOD:PUBLISH
X-PUBLISHED-TTL:P3D
REFRESH-INTERVAL:P3D
CALSCALE:GREGORIAN
BEGIN:VEVENT
DTSTART:20230531T140000Z
DTEND:20230531T160000Z
X-MICROSOFT-CDO-ALLDAYEVENT:FALSE
SUMMARY:Kootenai County Commissioners Breakfast - May 2023
DESCRIPTION:Join us for an update from our Kootenai County commissioners: Bill Brooks\, Bruce Mattare\, and Leslie Duncan. We look forward to hearing from these influential leaders on topics ranging from county budgets to local legislation. Get updated on an array of topics impacting our regional community while enjoying breakfast with the community of Coeur d'Alene!
X-ALT-DESC;FMTTYPE=text/html:<span style="color: rgb(0\, 0\, 0)\; font-family: Calibri\, sans-serif\; font-size: 15px\; text-align: center\;">Join us for an update from our Kootenai County commissioners: Bill Brooks\, Bruce Mattare\, and Leslie Duncan. We look forward to hearing from these influential leaders on topics ranging from county budgets to local legislation. Get updated on an array of topics impacting our regional community while enjoying breakfast with the community of Coeur d&#39\;Alene!&nbsp\;</span>
LOCATION:Best Western Plus Coeur d'Alene Inn 506 W. Appleway Ave.\, Coeur d'Alene\, ID 83814
UID:e.843.28002
SEQUENCE:3
DTSTAMP:20260423T162220Z
URL:http://directory.cdachamber.com/events/details/kootenai-county-commissioners-breakfast-may-2023-28002
END:VEVENT

END:VCALENDAR
