BEGIN:VCALENDAR
VERSION:2.0
PRODID:-//ChamberMaster//Event Calendar 2.0//EN
METHOD:PUBLISH
X-PUBLISHED-TTL:P3D
REFRESH-INTERVAL:P3D
CALSCALE:GREGORIAN
BEGIN:VEVENT
DTSTART:20241113T020000Z
DTEND:20241113T043000Z
X-MICROSOFT-CDO-ALLDAYEVENT:FALSE
SUMMARY:Governor's Banquet - Idaho Legislative Tour 2024
DESCRIPTION:Join us for an exclusive evening on November 12th as the CDA Regional Chamber welcomes back Idaho Governor Brad Little for the second time this year!\n\n\n\nThis special event occurs on day two of the 2024 Idaho Legislative Tour a 3-day program dedicated to fostering connections between state leaders and our local community while showcasing the remarkable gems and successes we have cultivated in our region.\n\nThe Governor will address local businesses and community members\, sharing essential updates and insights from the state level. This is a unique opportunity to engage directly with Idaho's top officials\, gain firsthand knowledge about the state's future\, and discuss key issues affecting our region.\n\nDon't miss this exceptional chance to sit alongside our legislators and contribute to an evening that will help shape the conversation for Idaho's continued growth and success.
X-ALT-DESC;FMTTYPE=text/html:<p><span style="color:#000000\;"><span style="font-family:arial\;"><span style="font-size:18px\;"><strong>Join us for an exclusive evening on November 12th as the CDA Regional Chamber welcomes back Idaho Governor Brad Little for the second time this year!</strong><br />\n<br />\nThis special event occurs on day two of the 2024 Idaho Legislative Tour&mdash\;a 3-day program dedicated to fostering connections between state leaders and our local community while showcasing the remarkable gems and successes we have cultivated in our region.</span></span></span></p>\n\n<p><span style="color:#000000\;"><span style="font-family:arial\;"><span style="font-size:18px\;">The Governor will address local businesses and community members\, sharing essential updates and insights from the state level. This is a unique opportunity to engage directly with Idaho&rsquo\;s top officials\, gain firsthand knowledge about the state&rsquo\;s future\, and discuss key issues affecting our region.</span></span></span></p>\n\n<p><span style="color:#000000\;"><span style="font-family:arial\;"><span style="font-size:18px\;">Don&rsquo\;t miss this exceptional chance to sit alongside our legislators and contribute to an evening that will help shape the conversation for Idaho&rsquo\;s continued growth and success.</span></span></span></p>\n
LOCATION:The Hagadone Event Center 900 S. Floating Green Dr\, Coeur d'Alene\, ID 83814
UID:e.843.32012
SEQUENCE:3
DTSTAMP:20260422T063659Z
URL:http://directory.cdachamber.com/events/details/governor-s-banquet-idaho-legislative-tour-2024-32012
END:VEVENT

END:VCALENDAR
