BEGIN:VCALENDAR
VERSION:2.0
PRODID:-//ChamberMaster//Event Calendar 2.0//EN
METHOD:PUBLISH
X-PUBLISHED-TTL:P3D
REFRESH-INTERVAL:P3D
CALSCALE:GREGORIAN
BEGIN:VEVENT
DTSTART:20240201T193000Z
DTEND:20240201T210000Z
X-MICROSOFT-CDO-ALLDAYEVENT:FALSE
SUMMARY:Governor Little Address - February 2024
DESCRIPTION:Join us for an exclusive luncheon with Governor Brad Little\, where we'll delve into the heartbeat of Idaho. This afternoon will be an engaging session as our esteemed leader shares insights on the state's current status and future initiatives. As members of the business community\, the Governor's vision directly influences our way of life\, business practices\, growth opportunities\, and the overall statewide community. Don't miss out on this unique opportunity to be part of the conversation that shapes the future of our beloved Idaho.\n\n\n\nHelp sponsor a student table! \n\nOnce again\, we are thrilled to welcome local students to join us for this valuable and unique experience. Be a part of supporting and developing our next generation leaders.\n\n\n\nReserve your seat now for an unforgettable afternoon of knowledge and community.
X-ALT-DESC;FMTTYPE=text/html:<span style="color:#000000\;"><span style="font-size:18px\;"><span style="font-family:verdana\;"><span style="white-space-collapse: preserve\;"><strong>Join us</strong> for an exclusive luncheon with Governor Brad Little\, where we&#39\;ll delve into the heartbeat of Idaho. This afternoon will be an engaging session as our esteemed leader shares insights on the state&#39\;s current status and future initiatives. As members of the business community\, the Governor&#39\;s vision directly influences our way of life\, business practices\, growth opportunities\, and the overall statewide community. Don&#39\;t miss out on this unique opportunity to be part of the conversation that shapes the future of our beloved Idaho.</span><br style="font-family: verdana\; font-size: 18px\;" />\n<br style="font-family: verdana\; font-size: 18px\;" />\n<span style="white-space-collapse: preserve\;"><strong>Help sponsor a student table!</strong> </span><br style="font-family: verdana\; font-size: 18px\;" />\n<span style="white-space-collapse: preserve\;">Once again\, we are thrilled to welcome local students to join us for this valuable and unique experience. Be a part of supporting and developing our next generation leaders.</span><br style="font-family: verdana\; font-size: 18px\;" />\n<br style="font-family: verdana\; font-size: 18px\;" />\n<span style="white-space-collapse: preserve\;">Reserve your seat now for an unforgettable afternoon of knowledge and community.</span></span></span></span>
LOCATION:Hagadone Event Center 900 S Floating Green Dr\, Coeur d'Alene\, ID 83814
UID:e.843.30145
SEQUENCE:3
DTSTAMP:20260422T215537Z
URL:http://directory.cdachamber.com/events/details/governor-little-address-february-2024-30145
END:VEVENT

END:VCALENDAR
