BEGIN:VCALENDAR
VERSION:2.0
PRODID:-//ChamberMaster//Event Calendar 2.0//EN
METHOD:PUBLISH
X-PUBLISHED-TTL:P3D
REFRESH-INTERVAL:P3D
CALSCALE:GREGORIAN
BEGIN:VEVENT
DTSTART:20230704T160000Z
DTEND:20230704T190000Z
X-MICROSOFT-CDO-ALLDAYEVENT:FALSE
SUMMARY:Exclusive VIP Parade Party
DESCRIPTION:Enjoy an exclusive 4th of July experience at the Coeur d'Alene Regional Chamber! \n\n        Look forward to:\n\n        - Premium parade viewing above the crowds\n\n        - Parade commentary\n\n        - Live music by Riley C Anderson\n\n        - Fun games & prizes\n\n        - Breakfast burritos by Taco Works\n\n        - Refreshing beverages\n\n        - Clean restrooms\n\n        - Air conditioning\n\n        - Making memories with friends and family\n\n\n\nAs a nonprofit organization\, all ticket proceeds go towards helping to recover the costs of the 4th of July parade and fireworks! \n\n\n\nPARKING IN THE CHAMBER PARKING LOT WILL NOT BE AVAILABLE.\n\nPLEASE PLAN ACCORDINGLY.
X-ALT-DESC;FMTTYPE=text/html:Enjoy an exclusive 4th of July experience at the Coeur d&#39\;Alene Regional Chamber!&nbsp\;<br />\n&nbsp\;&nbsp\;&nbsp\;&nbsp\;&nbsp\;&nbsp\;&nbsp\;&nbsp\;<u>Look forward to:</u><br />\n&nbsp\;&nbsp\;&nbsp\;&nbsp\;&nbsp\;&nbsp\;&nbsp\;&nbsp\;- Premium parade viewing&nbsp\;above the crowds<br />\n&nbsp\;&nbsp\;&nbsp\;&nbsp\;&nbsp\;&nbsp\;&nbsp\;&nbsp\;- Parade commentary<br />\n&nbsp\;&nbsp\;&nbsp\;&nbsp\;&nbsp\; &nbsp\; - Live music by <a href="https://www.thercamusic.com/">Riley C Anderson</a><br />\n&nbsp\;&nbsp\;&nbsp\;&nbsp\;&nbsp\; &nbsp\; - Fun games &amp\; prizes<br />\n&nbsp\;&nbsp\;&nbsp\;&nbsp\;&nbsp\;&nbsp\;&nbsp\;&nbsp\;- Breakfast burritos by Taco Works<br />\n&nbsp\;&nbsp\;&nbsp\;&nbsp\;&nbsp\;&nbsp\;&nbsp\;&nbsp\;- Refreshing beverages<br />\n&nbsp\;&nbsp\;&nbsp\;&nbsp\;&nbsp\;&nbsp\;&nbsp\;&nbsp\;- Clean restrooms<br />\n&nbsp\;&nbsp\;&nbsp\;&nbsp\;&nbsp\;&nbsp\;&nbsp\;&nbsp\;- Air conditioning<br />\n&nbsp\;&nbsp\;&nbsp\;&nbsp\;&nbsp\; &nbsp\; - Making memories with friends and family<br />\n<br />\nAs a nonprofit organization\, all ticket proceeds go towards helping to recover the costs of the 4th of July parade and fireworks!&nbsp\;<br />\n<br />\n<span style="font-size:18px\;"><span style="color:#FF0000\;">PARKING IN THE CHAMBER PARKING LOT WILL NOT BE AVAILABLE.<br />\nPLEASE PLAN ACCORDINGLY.</span></span>
LOCATION:CDA Regional Chamber
UID:e.843.28417
SEQUENCE:3
DTSTAMP:20260423T105156Z
URL:http://directory.cdachamber.com/events/details/exclusive-vip-parade-party-28417
END:VEVENT

END:VCALENDAR
