BEGIN:VCALENDAR
VERSION:2.0
PRODID:-//ChamberMaster//Event Calendar 2.0//EN
METHOD:PUBLISH
X-PUBLISHED-TTL:P3D
REFRESH-INTERVAL:P3D
CALSCALE:GREGORIAN
BEGIN:VEVENT
DTSTART:20230705T030000Z
DTEND:20230705T060000Z
X-MICROSOFT-CDO-ALLDAYEVENT:FALSE
SUMMARY:Exclusive VIP Fireworks Party
DESCRIPTION:Enjoy an exclusive 4th of July experience at the Coeur d'Alene Regional Chamber! \n\n        Look forward to:\n\n        - Premium fireworks viewing above the crowds\n\n        - Live music by Riley C. Anderson\n\n        - Fun games & prizes\n\n        - Tacos\, quesadillas\, chips and salsa by Taco Works\n\n        - Refreshing beverages\n\n        - Clean restrooms\n\n        - Air conditioning\n\n        - Making memories with friends and family\n\n\n\nPARKING IN THE CHAMBER PARKING LOT WILL NOT BE AVAILABLE.\n\nPLEASE PLAN ACCORDINGLY.
X-ALT-DESC;FMTTYPE=text/html:Enjoy an exclusive 4th of July experience at the Coeur d&#39\;Alene Regional Chamber!&nbsp\;<br />\n&nbsp\;&nbsp\;&nbsp\;&nbsp\;&nbsp\;&nbsp\;&nbsp\;&nbsp\;<u>Look forward to:</u><br />\n&nbsp\;&nbsp\;&nbsp\;&nbsp\;&nbsp\;&nbsp\;&nbsp\;&nbsp\;- Premium fireworks viewing&nbsp\;above the crowds<br />\n&nbsp\;&nbsp\;&nbsp\;&nbsp\;&nbsp\; &nbsp\; - Live music by <a href="https://www.thercamusic.com/">Riley C. Anderson</a><br />\n&nbsp\;&nbsp\;&nbsp\;&nbsp\;&nbsp\; &nbsp\; - Fun games &amp\; prizes<br />\n&nbsp\;&nbsp\;&nbsp\;&nbsp\;&nbsp\;&nbsp\;&nbsp\;&nbsp\;- Tacos\, quesadillas\, chips and salsa by Taco Works<br />\n&nbsp\;&nbsp\;&nbsp\;&nbsp\;&nbsp\;&nbsp\;&nbsp\;&nbsp\;- Refreshing beverages<br />\n&nbsp\;&nbsp\;&nbsp\;&nbsp\;&nbsp\;&nbsp\;&nbsp\;&nbsp\;- Clean restrooms<br />\n&nbsp\;&nbsp\;&nbsp\;&nbsp\;&nbsp\;&nbsp\;&nbsp\;&nbsp\;- Air conditioning<br />\n&nbsp\;&nbsp\;&nbsp\;&nbsp\;&nbsp\; &nbsp\; - Making memories with friends and family<br />\n<br />\n<span style="color: rgb(255\, 0\, 0)\; font-size: 18px\;">PARKING IN THE CHAMBER PARKING LOT WILL NOT BE AVAILABLE.</span><br style="color: rgb(255\, 0\, 0)\; font-size: 18px\;" />\n<span style="color: rgb(255\, 0\, 0)\; font-size: 18px\;">PLEASE PLAN ACCORDINGLY.</span>
LOCATION:CDA Regional Chamber
UID:e.843.28416
SEQUENCE:3
DTSTAMP:20260423T105135Z
URL:http://directory.cdachamber.com/events/details/exclusive-vip-fireworks-party-28416
END:VEVENT

END:VCALENDAR
