BEGIN:VCALENDAR
VERSION:2.0
PRODID:-//ChamberMaster//Event Calendar 2.0//EN
METHOD:PUBLISH
X-PUBLISHED-TTL:P3D
REFRESH-INTERVAL:P3D
CALSCALE:GREGORIAN
BEGIN:VEVENT
DTSTART;VALUE=DATE:20230704
DTEND;VALUE=DATE:20230705
TRANSP:TRANSPARENT
X-MICROSOFT-CDO-ALLDAYEVENT:TRUE
SUMMARY:Downtown Coeur d'Alene 4th of July Celebration 2023
DESCRIPTION:4th of July Celebration\n\nAmerican Heros Parade | 10AM - 1PM\n\nFireworks Extravaganza | 9:30PM - 10:30PM
X-ALT-DESC;FMTTYPE=text/html:<strong><span style="color: black\;"><span style="font-family: arial\;"><span style="font-size: 24pt\;">4th of July Celebration</span></span></span></strong><br />\nAmerican Heros Parade | 10AM - 1PM<br />\nFireworks Extravaganza | 9:30PM - 10:30PM
LOCATION:Downtown Coeur d'Alene
UID:e.843.28984
SEQUENCE:3
DTSTAMP:20260423T105657Z
URL:http://directory.cdachamber.com/events/details/downtown-coeur-d-alene-4th-of-july-celebration-2023-28984
END:VEVENT

END:VCALENDAR
