BEGIN:VCALENDAR
VERSION:2.0
PRODID:-//ChamberMaster//Event Calendar 2.0//EN
METHOD:PUBLISH
X-PUBLISHED-TTL:P3D
REFRESH-INTERVAL:P3D
CALSCALE:GREGORIAN
BEGIN:VEVENT
DTSTART:20220923T170000Z
DTEND:20220924T000000Z
X-MICROSOFT-CDO-ALLDAYEVENT:FALSE
SUMMARY:Cravin' The Raven Golf Tournament 2022
DESCRIPTION:Everyone loves to play the Circling Raven Golf Club course!\n\nJoin us Friday September 23\, 2022 for the Annual Cravin' the Raven Shotgun Golf Tournament.\n\n\n\nEntry fee is $150 per person and includes:\n\n\n	18 holes\, 4 person teams\n	GPS equipped golf carts\n	Live scoring via GPS\n	Tournament welcome and announcements\n	Beverage & snack carts on the course\n	Boxed lunch\n	$15 Casino Play voucher\n	KP and long drive contests\n\n\nSponsorship opportunities available. It's a great way to promote your business! Interested? Email our Member Experience team at Connect@cdachamber.com.
X-ALT-DESC;FMTTYPE=text/html:<h3><br />\n<strong>Everyone loves to play the Circling Raven Golf Club course!</strong></h3>\n\n<h4>Join us Friday September 23\,&nbsp\;2022&nbsp\;for the Annual Cravin&#39\; the Raven Shotgun Golf Tournament.<br />\n<br />\n<strong>Entry fee is $150 per person and includes:</strong></h4>\n\n<ul>\n	<li style="color: #1e73be\; font-size: 16px\;">18 holes\, 4 person teams</li>\n	<li style="color: #1e73be\; font-size: 16px\;">GPS equipped golf carts</li>\n	<li style="color: #1e73be\; font-size: 16px\;">Live scoring via GPS</li>\n	<li style="color: #1e73be\; font-size: 16px\;">Tournament welcome and announcements</li>\n	<li style="color: #1e73be\; font-size: 16px\;">Beverage &amp\; snack carts&nbsp\;on the course</li>\n	<li style="color: #1e73be\; font-size: 16px\;">Boxed lunch</li>\n	<li style="color: #1e73be\; font-size: 16px\;">$15 Casino Play voucher</li>\n	<li style="color: #1e73be\; font-size: 16px\;">KP and long drive contests</li>\n</ul>\n\n<h3>Sponsorship opportunities available. It&#39\;s a great way to promote your business! Interested? Email <i>our Member Experience team at </i><a data-custom="link" href="mailto:Connect@cdachamber.com"><span style="color:#2c63d2\;"><i>Connect@cdachamber.com</i></span></a><i>.</i></h3>\n
LOCATION:Circling Raven Golf Club at the Coeur d'Alene Casino\, Resort & Spa: 38530 S. Nukwalkqw St. | Worley\, ID 83876 (*For directions\, please call the Coeur d'Alene Casino\, Resort & Spa at # 800.523.2464)
UID:e.843.23897
SEQUENCE:3
DTSTAMP:20260424T070925Z
URL:http://directory.cdachamber.com/events/details/cravin-the-raven-golf-tournament-2022-23897
END:VEVENT

END:VCALENDAR
